Workbook

Sheet 日報
A2: 0 | B2: 社 長 | F2: 専 務 | H2: 部 長 | J2: 次 長 | L2: 課 長 | N2: 係 長 | O2: 係 | R2: 船 舶 部 ウ ト ロ 営 業 日 報 | AD2: 天候 | AF2: 午 前 | AG2: 午 後
O3: =IF(ISERROR(VLOOKUP(O5,参照!AB:AC,2,FALSE)),"",VLOOKUP(O5,参照!AB:AC,2,FALSE)) -> 菅原 | S3: * | W3: =TEXT(S3,"aaaa") -> * | AF3: =IF(ISERROR(VLOOKUP(P3,参照!M:N,2,FALSE)),"",VLOOKUP(P3,参照!M:N,2,FALSE)) | AG3: =IF(ISERROR(VLOOKUP(P4,参照!M:N,2,FALSE)),"",VLOOKUP(P4,参照!M:N,2,FALSE))
O4: =IF(ISERROR(VLOOKUP(N4,参照!#REF!,2,FALSE)),"",VLOOKUP(N4,参照!#REF!,2,FALSE)) | AF4: =IF(ISERROR(VLOOKUP(AE4,参照!O:P,2,FALSE)),"",VLOOKUP(AE4,参照!O:P,2,FALSE)) | AG4: =IF(ISERROR(VLOOKUP(AF4,参照!P:Q,2,FALSE)),"",VLOOKUP(AF4,参照!P:Q,2,FALSE))
B5: 航路別売上 | O5: 5 | R5: Ｂ 発券精算 | V5: Ｃ 請求精算 | Z5: Ｄ 売店等内訳 | AF5: Ｆ 当日売掛金
F6: 硫黄山（A) ・ 水晶（B）・岩尾別（C)・知床岬（D）・カシュニ（E） | R6: エージェント名 | T6: 金 額 | V6: エージェント名 | X6: 金 額 | Z6: 項 目 | AC6: 金 額
B7: 航 | C7: 次 | D7: 船 | F7: 一般A | H7: 団体B | J7: 学割 | L7: 小人A | N7: 小人B | O7: 人 数 | P7: 金 額 | R7: =IF(ISERROR(VLOOKUP(Q7,参照!A:B,2,FALSE)),"",VLOOKUP(Q7,参照!A:B,2,FALSE)) | V7: =IF(ISERROR(VLOOKUP(U7,参照!D:E,2,FALSE)),"",VLOOKUP(U7,参照!D:E,2,FALSE)) | Z7: 売店現金 | AC7: =SUM(S40) -> 0 | AF7: 売掛合計 | AG7: =+T27+T31 -> 0
E8: =IF(B8="","",VLOOKUP(B8,参照!$U$1:$Z$25,2,FALSE)) | G8: =IF(B8="","",VLOOKUP(B8,参照!$U$1:$Z$25,3,FALSE)) | I8: =IF(B8="","",VLOOKUP(B8,参照!$U$1:$Z$25,4,FALSE)) | K8: =IF(B8="","",VLOOKUP(B8,参照!$U$1:$Z$25,5,FALSE)) | M8: =IF(B8="","",VLOOKUP(B8,参照!$U$1:$Z$25,6,FALSE)) | O8: =IF(SUM(F8+H8+J8+L8+N8)=0,"",SUM(F8+H8+J8+L8+N8)) | P8: =IF(ISERROR(SUM(E8*F8+G8*H8+I8*J8+K8*L8+M8*N8)),"",SUM(E8*F8+G8*H8+I8*J8+K8*L8+M8*N8)) | R8: =IF(ISERROR(VLOOKUP(Q8,参照!A:B,2,FALSE)),"",VLOOKUP(Q8,参照!A:B,2,FALSE)) | V8: =IF(ISERROR(VLOOKUP(U8,参照!D:E,2,FALSE)),"",VLOOKUP(U8,参照!D:E,2,FALSE)) | Z8: 船フイルム１
E9: =IF(B9="","",VLOOKUP(B9,参照!$U$1:$Z$25,2,FALSE)) | G9: =IF(B9="","",VLOOKUP(B9,参照!$U$1:$Z$25,3,FALSE)) | I9: =IF(B9="","",VLOOKUP(B9,参照!$U$1:$Z$25,4,FALSE)) | K9: =IF(B9="","",VLOOKUP(B9,参照!$U$1:$Z$25,5,FALSE)) | M9: =IF(B9="","",VLOOKUP(B9,参照!$U$1:$Z$25,6,FALSE)) | O9: =IF(SUM(F9+H9+J9+L9+N9)=0,"",SUM(F9+H9+J9+L9+N9)) | P9: =IF(ISERROR(SUM(E9*F9+G9*H9+I9*J9+K9*L9+M9*N9)),"",SUM(E9*F9+G9*H9+I9*J9+K9*L9+M9*N9)) | R9: =IF(ISERROR(VLOOKUP(Q9,参照!A:B,2,FALSE)),"",VLOOKUP(Q9,参照!A:B,2,FALSE)) | V9: =IF(ISERROR(VLOOKUP(U9,参照!D:E,2,FALSE)),"",VLOOKUP(U9,参照!D:E,2,FALSE)) | Z9: 船フイルム２ | AF9: 預 り 金
E10: =IF(B10="","",VLOOKUP(B10,参照!$U$1:$Z$25,2,FALSE)) | G10: =IF(B10="","",VLOOKUP(B10,参照!$U$1:$Z$25,3,FALSE)) | I10: =IF(B10="","",VLOOKUP(B10,参照!$U$1:$Z$25,4,FALSE)) | K10: =IF(B10="","",VLOOKUP(B10,参照!$U$1:$Z$25,5,FALSE)) | M10: =IF(B10="","",VLOOKUP(B10,参照!$U$1:$Z$25,6,FALSE)) | O10: =IF(SUM(F10+H10+J10+L10+N10)=0,"",SUM(F10+H10+J10+L10+N10)) | P10: =IF(ISERROR(SUM(E10*F10+G10*H10+I10*J10+K10*L10+M10*N10)),"",SUM(E10*F10+G10*H10+I10*J10+K10*L10+M10*N10)) | R10: =IF(ISERROR(VLOOKUP(Q10,参照!A:B,2,FALSE)),"",VLOOKUP(Q10,参照!A:B,2,FALSE)) | V10: =IF(ISERROR(VLOOKUP(U10,参照!D:E,2,FALSE)),"",VLOOKUP(U10,参照!D:E,2,FALSE)) | Z10: 売店売掛金 | AC10: =+T26+T30 -> 0
E11: =IF(B11="","",VLOOKUP(B11,参照!$U$1:$Z$25,2,FALSE)) | G11: =IF(B11="","",VLOOKUP(B11,参照!$U$1:$Z$25,3,FALSE)) | I11: =IF(B11="","",VLOOKUP(B11,参照!$U$1:$Z$25,4,FALSE)) | K11: =IF(B11="","",VLOOKUP(B11,参照!$U$1:$Z$25,5,FALSE)) | M11: =IF(B11="","",VLOOKUP(B11,参照!$U$1:$Z$25,6,FALSE)) | O11: =IF(SUM(F11+H11+J11+L11+N11)=0,"",SUM(F11+H11+J11+L11+N11)) | P11: =IF(ISERROR(SUM(E11*F11+G11*H11+I11*J11+K11*L11+M11*N11)),"",SUM(E11*F11+G11*H11+I11*J11+K11*L11+M11*N11)) | R11: =IF(ISERROR(VLOOKUP(Q11,参照!A:B,2,FALSE)),"",VLOOKUP(Q11,参照!A:B,2,FALSE)) | V11: =IF(ISERROR(VLOOKUP(U11,参照!D:E,2,FALSE)),"",VLOOKUP(U11,参照!D:E,2,FALSE)) | Z11: 合 計 | AC11: =SUM(AC7:AC10) -> 0 | AF11: 合 計 | AG11: =SUM(AG7:AG10) -> 0
E12: =IF(B12="","",VLOOKUP(B12,参照!$U$1:$Z$25,2,FALSE)) | G12: =IF(B12="","",VLOOKUP(B12,参照!$U$1:$Z$25,3,FALSE)) | I12: =IF(B12="","",VLOOKUP(B12,参照!$U$1:$Z$25,4,FALSE)) | K12: =IF(B12="","",VLOOKUP(B12,参照!$U$1:$Z$25,5,FALSE)) | M12: =IF(B12="","",VLOOKUP(B12,参照!$U$1:$Z$25,6,FALSE)) | O12: =IF(SUM(F12+H12+J12+L12+N12)=0,"",SUM(F12+H12+J12+L12+N12)) | P12: =IF(ISERROR(SUM(E12*F12+G12*H12+I12*J12+K12*L12+M12*N12)),"",SUM(E12*F12+G12*H12+I12*J12+K12*L12+M12*N12)) | R12: =IF(ISERROR(VLOOKUP(Q12,参照!A:B,2,FALSE)),"",VLOOKUP(Q12,参照!A:B,2,FALSE)) | V12: =IF(ISERROR(VLOOKUP(U12,参照!D:E,2,FALSE)),"",VLOOKUP(U12,参照!D:E,2,FALSE))
E13: =IF(B13="","",VLOOKUP(B13,参照!$U$1:$Z$25,2,FALSE)) | G13: =IF(B13="","",VLOOKUP(B13,参照!$U$1:$Z$25,3,FALSE)) | I13: =IF(B13="","",VLOOKUP(B13,参照!$U$1:$Z$25,4,FALSE)) | K13: =IF(B13="","",VLOOKUP(B13,参照!$U$1:$Z$25,5,FALSE)) | M13: =IF(B13="","",VLOOKUP(B13,参照!$U$1:$Z$25,6,FALSE)) | O13: =IF(SUM(F13+H13+J13+L13+N13)=0,"",SUM(F13+H13+J13+L13+N13)) | P13: =IF(ISERROR(SUM(E13*F13+G13*H13+I13*J13+K13*L13+M13*N13)),"",SUM(E13*F13+G13*H13+I13*J13+K13*L13+M13*N13)) | R13: =IF(ISERROR(VLOOKUP(Q13,参照!A:B,2,FALSE)),"",VLOOKUP(Q13,参照!A:B,2,FALSE)) | V13: =IF(ISERROR(VLOOKUP(U13,参照!D:E,2,FALSE)),"",VLOOKUP(U13,参照!D:E,2,FALSE))
E14: =IF(B14="","",VLOOKUP(B14,参照!$U$1:$Z$25,2,FALSE)) | G14: =IF(B14="","",VLOOKUP(B14,参照!$U$1:$Z$25,3,FALSE)) | I14: =IF(B14="","",VLOOKUP(B14,参照!$U$1:$Z$25,4,FALSE)) | K14: =IF(B14="","",VLOOKUP(B14,参照!$U$1:$Z$25,5,FALSE)) | M14: =IF(B14="","",VLOOKUP(B14,参照!$U$1:$Z$25,6,FALSE)) | O14: =IF(SUM(F14+H14+J14+L14+N14)=0,"",SUM(F14+H14+J14+L14+N14)) | P14: =IF(ISERROR(SUM(E14*F14+G14*H14+I14*J14+K14*L14+M14*N14)),"",SUM(E14*F14+G14*H14+I14*J14+K14*L14+M14*N14)) | R14: =IF(ISERROR(VLOOKUP(Q14,参照!A:B,2,FALSE)),"",VLOOKUP(Q14,参照!A:B,2,FALSE)) | V14: =IF(ISERROR(VLOOKUP(U14,参照!D:E,2,FALSE)),"",VLOOKUP(U14,参照!D:E,2,FALSE)) | Z14: Ｅ 前入金及びその他収入内訳 | AF14: Ｇ 当日取扱現金
E15: =IF(B15="","",VLOOKUP(B15,参照!$U$1:$Z$25,2,FALSE)) | G15: =IF(B15="","",VLOOKUP(B15,参照!$U$1:$Z$25,3,FALSE)) | I15: =IF(B15="","",VLOOKUP(B15,参照!$U$1:$Z$25,4,FALSE)) | K15: =IF(B15="","",VLOOKUP(B15,参照!$U$1:$Z$25,5,FALSE)) | M15: =IF(B15="","",VLOOKUP(B15,参照!$U$1:$Z$25,6,FALSE)) | O15: =IF(SUM(F15+H15+J15+L15+N15)=0,"",SUM(F15+H15+J15+L15+N15)) | P15: =IF(ISERROR(SUM(E15*F15+G15*H15+I15*J15+K15*L15+M15*N15)),"",SUM(E15*F15+G15*H15+I15*J15+K15*L15+M15*N15)) | R15: =IF(ISERROR(VLOOKUP(Q15,参照!A:B,2,FALSE)),"",VLOOKUP(Q15,参照!A:B,2,FALSE)) | V15: =IF(ISERROR(VLOOKUP(U15,参照!D:E,2,FALSE)),"",VLOOKUP(U15,参照!D:E,2,FALSE)) | Z15: （乗船券類前入金）
E16: =IF(B16="","",VLOOKUP(B16,参照!$U$1:$Z$25,2,FALSE)) | G16: =IF(B16="","",VLOOKUP(B16,参照!$U$1:$Z$25,3,FALSE)) | I16: =IF(B16="","",VLOOKUP(B16,参照!$U$1:$Z$25,4,FALSE)) | K16: =IF(B16="","",VLOOKUP(B16,参照!$U$1:$Z$25,5,FALSE)) | M16: =IF(B16="","",VLOOKUP(B16,参照!$U$1:$Z$25,6,FALSE)) | O16: =IF(SUM(F16+H16+J16+L16+N16)=0,"",SUM(F16+H16+J16+L16+N16)) | P16: =IF(ISERROR(SUM(E16*F16+G16*H16+I16*J16+K16*L16+M16*N16)),"",SUM(E16*F16+G16*H16+I16*J16+K16*L16+M16*N16)) | R16: =IF(ISERROR(VLOOKUP(Q16,参照!A:B,2,FALSE)),"",VLOOKUP(Q16,参照!A:B,2,FALSE)) | V16: =IF(ISERROR(VLOOKUP(U16,参照!D:E,2,FALSE)),"",VLOOKUP(U16,参照!D:E,2,FALSE)) | AF16: 現金売上 | AG16: =+T50-AG11-AC31 -> #VALUE!
E17: =IF(B17="","",VLOOKUP(B17,参照!$U$1:$Z$25,2,FALSE)) | G17: =IF(B17="","",VLOOKUP(B17,参照!$U$1:$Z$25,3,FALSE)) | I17: =IF(B17="","",VLOOKUP(B17,参照!$U$1:$Z$25,4,FALSE)) | K17: =IF(B17="","",VLOOKUP(B17,参照!$U$1:$Z$25,5,FALSE)) | M17: =IF(B17="","",VLOOKUP(B17,参照!$U$1:$Z$25,6,FALSE)) | O17: =IF(SUM(F17+H17+J17+L17+N17)=0,"",SUM(F17+H17+J17+L17+N17)) | P17: =IF(ISERROR(SUM(E17*F17+G17*H17+I17*J17+K17*L17+M17*N17)),"",SUM(E17*F17+G17*H17+I17*J17+K17*L17+M17*N17)) | R17: =IF(ISERROR(VLOOKUP(Q17,参照!A:B,2,FALSE)),"",VLOOKUP(Q17,参照!A:B,2,FALSE)) | V17: =IF(ISERROR(VLOOKUP(U17,参照!D:E,2,FALSE)),"",VLOOKUP(U17,参照!D:E,2,FALSE))
E18: =IF(B18="","",VLOOKUP(B18,参照!$U$1:$Z$25,2,FALSE)) | G18: =IF(B18="","",VLOOKUP(B18,参照!$U$1:$Z$25,3,FALSE)) | I18: =IF(B18="","",VLOOKUP(B18,参照!$U$1:$Z$25,4,FALSE)) | K18: =IF(B18="","",VLOOKUP(B18,参照!$U$1:$Z$25,5,FALSE)) | M18: =IF(B18="","",VLOOKUP(B18,参照!$U$1:$Z$25,6,FALSE)) | O18: =IF(SUM(F18+H18+J18+L18+N18)=0,"",SUM(F18+H18+J18+L18+N18)) | P18: =IF(ISERROR(SUM(E18*F18+G18*H18+I18*J18+K18*L18+M18*N18)),"",SUM(E18*F18+G18*H18+I18*J18+K18*L18+M18*N18)) | R18: =IF(ISERROR(VLOOKUP(Q18,参照!A:B,2,FALSE)),"",VLOOKUP(Q18,参照!A:B,2,FALSE)) | V18: =IF(ISERROR(VLOOKUP(U18,参照!D:E,2,FALSE)),"",VLOOKUP(U18,参照!D:E,2,FALSE)) | AF18: 売掛回収
E19: =IF(B19="","",VLOOKUP(B19,参照!$U$1:$Z$25,2,FALSE)) | G19: =IF(B19="","",VLOOKUP(B19,参照!$U$1:$Z$25,3,FALSE)) | I19: =IF(B19="","",VLOOKUP(B19,参照!$U$1:$Z$25,4,FALSE)) | K19: =IF(B19="","",VLOOKUP(B19,参照!$U$1:$Z$25,5,FALSE)) | M19: =IF(B19="","",VLOOKUP(B19,参照!$U$1:$Z$25,6,FALSE)) | O19: =IF(SUM(F19+H19+J19+L19+N19)=0,"",SUM(F19+H19+J19+L19+N19)) | P19: =IF(ISERROR(SUM(E19*F19+G19*H19+I19*J19+K19*L19+M19*N19)),"",SUM(E19*F19+G19*H19+I19*J19+K19*L19+M19*N19)) | R19: =IF(ISERROR(VLOOKUP(Q19,参照!A:B,2,FALSE)),"",VLOOKUP(Q19,参照!A:B,2,FALSE)) | V19: =IF(ISERROR(VLOOKUP(U19,参照!D:E,2,FALSE)),"",VLOOKUP(U19,参照!D:E,2,FALSE)) | Z19: （その他収入内訳）
B20: * | E20: =IF(B20="","",VLOOKUP(B20,参照!$U$1:$Z$25,2,FALSE)) -> 5000 | G20: =IF(B20="","",VLOOKUP(B20,参照!$U$1:$Z$25,3,FALSE)) -> 4750 | I20: =IF(B20="","",VLOOKUP(B20,参照!$U$1:$Z$25,4,FALSE)) -> 3500 | K20: =IF(B20="","",VLOOKUP(B20,参照!$U$1:$Z$25,5,FALSE)) -> 2500 | M20: =IF(B20="","",VLOOKUP(B20,参照!$U$1:$Z$25,6,FALSE)) -> 2380 | O20: =IF(SUM(F20+H20+J20+L20+N20)=0,"",SUM(F20+H20+J20+L20+N20)) | P20: =IF(ISERROR(SUM(E20*F20+G20*H20+I20*J20+K20*L20+M20*N20)),"",SUM(E20*F20+G20*H20+I20*J20+K20*L20+M20*N20)) -> 0 | R20: =IF(ISERROR(VLOOKUP(Q20,参照!A:B,2,FALSE)),"",VLOOKUP(Q20,参照!A:B,2,FALSE)) | V20: =IF(ISERROR(VLOOKUP(U20,参照!D:E,2,FALSE)),"",VLOOKUP(U20,参照!D:E,2,FALSE))
B21: * | E21: =IF(B21="","",VLOOKUP(B21,参照!$U$1:$Z$25,2,FALSE)) -> 5000 | G21: =IF(B21="","",VLOOKUP(B21,参照!$U$1:$Z$25,3,FALSE)) -> 4750 | I21: =IF(B21="","",VLOOKUP(B21,参照!$U$1:$Z$25,4,FALSE)) -> 3500 | K21: =IF(B21="","",VLOOKUP(B21,参照!$U$1:$Z$25,5,FALSE)) -> 2500 | M21: =IF(B21="","",VLOOKUP(B21,参照!$U$1:$Z$25,6,FALSE)) -> 2380 | O21: =IF(SUM(F21+H21+J21+L21+N21)=0,"",SUM(F21+H21+J21+L21+N21)) | P21: =IF(ISERROR(SUM(E21*F21+G21*H21+I21*J21+K21*L21+M21*N21)),"",SUM(E21*F21+G21*H21+I21*J21+K21*L21+M21*N21)) -> 0 | R21: =IF(ISERROR(VLOOKUP(Q21,参照!A:B,2,FALSE)),"",VLOOKUP(Q21,参照!A:B,2,FALSE)) | V21: =IF(ISERROR(VLOOKUP(U21,参照!D:E,2,FALSE)),"",VLOOKUP(U21,参照!D:E,2,FALSE))
E22: =IF(B22="","",VLOOKUP(B22,参照!$U$1:$Z$25,2,FALSE)) | R22: =IF(ISERROR(VLOOKUP(Q22,参照!A:B,2,FALSE)),"",VLOOKUP(Q22,参照!A:B,2,FALSE)) | V22: =IF(ISERROR(VLOOKUP(U22,参照!D:E,2,FALSE)),"",VLOOKUP(U22,参照!D:E,2,FALSE)) | AF22: 乗船手数料
B23: 小 計 | F23: =SUM(F8:F21) -> 0 | G23: =SUM(G8:G21) -> 9500 | H23: =SUM(H8:H21) -> 0 | I23: =SUM(I8:I21) -> 7000 | J23: =SUM(J8:J21) -> 0 | K23: =SUM(K8:K21) -> 5000 | L23: =SUM(L8:L21) -> 0 | M23: =SUM(M8:M21) -> 4760 | ... P23: =SUM(P8:P21) -> 0 | R23: =IF(ISERROR(VLOOKUP(Q23,参照!A:B,2,FALSE)),"",VLOOKUP(Q23,参照!A:B,2,FALSE)) | V23: =IF(ISERROR(VLOOKUP(U23,参照!D:E,2,FALSE)),"",VLOOKUP(U23,参照!D:E,2,FALSE))
R24: 小 計 | T24: =SUM(T7:T23) -> 0 | V24: =IF(ISERROR(VLOOKUP(U24,参照!D:E,2,FALSE)),"",VLOOKUP(U24,参照!D:E,2,FALSE)) | AF24: 過不足金
B25: 月 計 | E25: =IF(B25="","",VLOOKUP(B25,参照!$U$1:$Z$25,2,FALSE)) -> #N/A | F25: 月 航路別乗船人数・売上金額 | R25: 売店売掛（発券精算分） | V25: =IF(ISERROR(VLOOKUP(U25,参照!D:E,2,FALSE)),"",VLOOKUP(U25,参照!D:E,2,FALSE))
B26: 航路名 | E26: #N/A | F26: 一般A | H26: 団体B | J26: 学割 | L26: 小人A | N26: 小人B | O26: 人 数 | P26: 金 額 | R26: =IF(ISERROR(VLOOKUP(Q26,参照!A:B,2,FALSE)),"",VLOOKUP(Q26,参照!A:B,2,FALSE)) | V26: =IF(ISERROR(VLOOKUP(U26,参照!D:E,2,FALSE)),"",VLOOKUP(U26,参照!D:E,2,FALSE)) | AF26: 預金額計 | AG26: =SUM(AG16:AG25) -> #VALUE!
B27: 硫黄山 | F27: =SUMIF($B8:$P21,$A27,F8:F21) -> 0 | G27: =SUMIF($B8:$P21,$A27,G8:G21) -> 0 | R27: 発 券 精 算 計 | T27: =SUM(T24+T26) -> 0 | V27: =IF(ISERROR(VLOOKUP(U27,参照!D:E,2,FALSE)),"",VLOOKUP(U27,参照!D:E,2,FALSE)) | Z27: その他収入計 | AC27: =SUM(AC20:AC25) -> 0
B28: 小 計 | E28: #N/A | V28: =IF(ISERROR(VLOOKUP(U28,参照!D:E,2,FALSE)),"",VLOOKUP(U28,参照!D:E,2,FALSE)) | Z28: 現金=0、前入金・後入金=1入力
B29: 水晶岬 | R29: 売店売掛（請求精算分） | V29: =IF(ISERROR(VLOOKUP(U29,参照!D:E,2,FALSE)),"",VLOOKUP(U29,参照!D:E,2,FALSE)) | AF29: 双眼鏡レンタル月累計
B30: 小 計 | E30: #N/A | R30: =IF(ISERROR(VLOOKUP(Q30,参照!#REF!,2,FALSE)),"",VLOOKUP(Q30,参照!#REF!,2,FALSE)) | V30: =IF(ISERROR(VLOOKUP(U30,参照!D:E,2,FALSE)),"",VLOOKUP(U30,参照!D:E,2,FALSE)) | AF30: おーろら | AG30: 0
B31: 岩尾別 | R31: 請 求 精 算 計 | T31: =SUM(X31+T30) -> 0 | V31: 小 計 | X31: =SUM(X7:X30) -> 0 | Z31: 前 後 入 金 計 | AC31: =+AB16*AC16+AB17*AC17+AB20*AC20+AB21*AC21+AB22*AC22+AB23*AC23+AB24*AC24+AB25*AC25 -> 0 | AF31: おーろら2 | AG31: 0
B32: 小 計
B33: 知床岬 | E33: #N/A | R33: Ｈ 収入内訳 | AF33: Ｉ 記 事
B34: 小 計 | E34: #N/A | T34: 当 日 | X34: 当 月 累 計 | AC34: 全 期 累 計
B35: カシュニ | S35: （昨年） | W35: （昨年） | AA35: （昨年） | AC35: =SUM(前月ペースト場所!AI34) -> 278
B36: 小 計 | E36: #N/A | R36: 乗 客 数 | S36: （本年） | T36: =O40+O43+O46+O49+O52 -> 138 | W36: （本年） | Z36: =+IF(ISERROR(X36/X35*100),"",(X36/X35*100)) | AA36: （本年） | AC36: =SUM(前月ペースト場所!AI35) -> 138 | AD36: =+IF(ISERROR(AC36/AC35*100),"",(AC36/AC35*100)) -> 49.640288
E37: =IF(B37="","",VLOOKUP(B37,参照!$U$1:$Z$25,2,FALSE)) | AC37: =SUM(前月ペースト場所!AI36) -> 1183960
B38: 月 累 計 | R38: 旅客収入 | T38: =P8+P9+P10+P11+P12+P13+P14+P15+P16+P17+P18+P19+P20+P21+P22+P23+P24+P25+P26+P27+P28+P29+P30+P31+P32+P33+P34+P35+P36+P37+P38 -> #VALUE! | Z38: =+IF(ISERROR(X38/X37*100),"",(X38/X37*100)) | AC38: =SUM(前月ペースト場所!AI37) -> 675760 | AD38: =+IF(ISERROR(AC38/AC37*100),"",(AC38/AC37*100)) -> 57.076253
R39: フイルム | S39: =SUM(AC8:AC9) -> 0 | AC39: =SUM(前月ペースト場所!AI38) -> 0
B40: 全期計 | E40: =IF(B40="","",VLOOKUP(B40,参照!$U$1:$Z$25,2,FALSE)) -> #N/A | F40: 全期 航路別乗船人数・売上金額 | R40: 売 店 | T40: =SUM(T26+T30+S39+S40) -> 0 | Z40: =+IF(ISERROR(X40/X39*100),"",(X40/X39*100)) | AC40: =SUM(前月ペースト場所!AI39) -> 31216 | AD40: =+IF(ISERROR(AC40/AC39*100),"",(AC40/AC39*100))
B41: 航路名 | E41: #N/A | F41: 一般A | H41: 団体B | J41: 学割 | L41: 小人A | N41: 小人B | O41: 人 数 | P41: 金 額 | R41: 船舶売店1 | AC41: =SUM(前月ペースト場所!AI40) -> 17400
...

Sheet 昨年日報
A2: 0 | B2: 社 長 | F2: 専 務 | H2: 部 長 | J2: 次 長 | L2: 課 長 | N2: 係 長 | O2: 係 | R2: 船 舶 部 ウ ト ロ 営 業 日 報 | AD2: 天候 | AF2: 午 前 | AG2: 午 後
O3: 菅原 | S3: * | W3: *
B5: 航路別売上 | O5: 5 | R5: Ｂ 発券精算 | V5: Ｃ 請求精算 | Z5: Ｄ 売店等内訳 | AF5: Ｆ 当日売掛金
F6: 硫黄山（A) ・ 水晶（B）・岩尾別（C)・知床岬（D）・カシュニ（E） | R6: エージェント名 | T6: 金 額 | V6: エージェント名 | X6: 金 額 | Z6: 項 目 | AC6: 金 額
B7: 航 | C7: 次 | D7: 船 | F7: 一般A | H7: 団体B | J7: 学割 | L7: 小人A | N7: 小人B | O7: 人 数 | P7: 金 額 | Z7: 売店現金 | AC7: 0 | AF7: 売掛合計 | AG7: 0
Z8: 船フイルム１
Z9: 船フイルム２ | AF9: 預 り 金 | AK9: ⇦2018年のはこの色の部分のB-ACまでドラッグしてコピペ
Z10: 売店売掛金 | AC10: 0
Z11: 合 計 | AC11: 0 | AF11: 合 計 | AG11: 0
Z14: Ｅ 前入金及びその他収入内訳 | AF14: Ｇ 当日取扱現金
Z15: （乗船券類前入金）
AF16: 現金売上 | AG16: #VALUE!
AF18: 売掛回収
Z19: （その他収入内訳）
B20: * | E20: 4500 | G20: 4050 | I20: 3150 | K20: 2250 | M20: 2030 | P20: 0
B21: * | E21: 4500 | G21: 4050 | I21: 3150 | K21: 2250 | M21: 2030 | P21: 0
AF22: 乗船手数料
B23: 小 計 | F23: 0 | G23: 8100 | H23: 0 | I23: 6300 | J23: 0 | K23: 4500 | L23: 0 | M23: 4060 | N23: 0 | O23: 0 | P23: 0
R24: 小 計 | T24: 0 | AF24: 過不足金
B25: 月 計 | E25: #N/A | F25: 月 航路別乗船人数・売上金額 | R25: 売店売掛（発券精算分）
B26: 航路名 | E26: #N/A | F26: 一般A | H26: 団体B | J26: 学割 | L26: 小人A | N26: 小人B | O26: 人 数 | P26: 金 額 | AF26: 預金額計 | AG26: #VALUE!
B27: 硫黄山 | F27: 0 | G27: 0 | R27: 発 券 精 算 計 | T27: 0 | Z27: その他収入計 | AC27: 0
B28: 小 計 | E28: #N/A | Z28: 現金=0、前入金・後入金=1入力
B29: 水晶岬 | R29: 売店売掛（請求精算分） | AF29: 双眼鏡レンタル月累計
B30: 小 計 | E30: #N/A | AF30: おーろら | AG30: 0
B31: 岩尾別 | R31: 請 求 精 算 計 | T31: 0 | V31: 小 計 | X31: 0 | Z31: 前 後 入 金 計 | AC31: 0 | AF31: おーろら2 | AG31: 0
B32: 小 計
B33: 知床岬 | E33: #N/A | R33: Ｈ 収入内訳 | AF33: Ｉ 記 事
B34: 小 計 | E34: #N/A | T34: 当 日 | X34: 当 月 累 計 | AC34: 全 期 累 計
B35: カシュニ | S35: （昨年） | W35: （昨年） | AA35: （昨年） | AC35: 319
B36: 小 計 | E36: #N/A | R36: 乗 客 数 | S36: （本年） | T36: 278 | W36: （本年） | AA36: （本年） | AC36: 278 | AD36: 87.147335
AC37: 1044610
B38: 月 累 計 | R38: 旅客収入 | T38: #VALUE! | AC38: 1183960 | AD38: 113.33991
R39: フイルム | S39: 0 | AC39: 0
B40: 全期計 | E40: #N/A | F40: 全期 航路別乗船人数・売上金額 | R40: 売 店 | T40: 0 | AC40: 0
B41: 航路名 | E41: #N/A | F41: 一般A | H41: 団体B | J41: 学割 | L41: 小人A | N41: 小人B | O41: 人 数 | P41: 金 額 | R41: 船舶売店1 | AC41: 20020
B42: 硫黄山 | R42: 船舶売店2 | T42: 0 | AC42: 17400 | AD42: 86.913087
B43: 全期小計 | E43: #N/A | F43: 186 | G43: 12150 | H43: 78 | I43: 9450 | J43: 0 | K43: 6750 | L43: 12 | M43: 6090 | N43: 2 | O43: 278 | P43: 1183960 | R43: 座席指定1 | AC43: 22800
B44: 水晶岬 | R44: 座席指定2 | T44: 0 | AC44: 33000 | AD44: 144.73684
B45: 全期小計 | E45: #N/A | F45: 0 | G45: 0 | H45: 0 | I45: 0 | J45: 0 | K45: 0 | L45: 0 | M45: 0 | N45: 0 | O45: 0 | P45: 0 | AC45: 0
...

Sheet 受払表
B6: =日報!S57 -> 46143 | I6: コピペ
B7: 乗船券種別 | F7: 当日発行 | J7: 全期累計
E8: 発券数 | F8: 廃札 | G8: 利用数 | H8: 金額 | I8: 発券数 | J8: 廃札 | K8: 利用数 | L8: 金額
B9: カムイワッカの滝航路 | C9: Ａ | D9: 5000 | G9: =E9-F9 -> 0 | H9: =+G9*D9 -> 0 | I9: 118 | J9: 0 | K9: 118 | L9: 590000
C10: FA | D10: 5000 | G10: =E10-F10 -> 0 | H10: =+G10*D10 -> 0 | I10: 0 | J10: 0 | K10: 0 | L10: 0
C11: AC | D11: 2500 | G11: =E11-F11 -> 0 | H11: =+G11*D11 -> 0 | I11: 2 | J11: 0 | K11: 2 | L11: 5000
C12: FAC | D12: 2500 | G12: =E12-F12 -> 0 | H12: =+G12*D12 -> 0 | I12: 0 | J12: 0 | K12: 0 | L12: 0
C13: Ｂ | D13: 4750 | G13: =E13-F13 -> 0 | H13: =+G13*D13 -> 0 | I13: 16 | J13: 0 | K13: 16 | L13: 76000
C14: FB | D14: 4750 | G14: =E14-F14 -> 0 | H14: =+G14*D14 -> 0 | I14: 0 | J14: 0 | K14: 0 | L14: 0
C15: BC | D15: 2380 | G15: =E15-F15 -> 0 | H15: =+G15*D15 -> 0 | I15: 2 | J15: 0 | K15: 2 | L15: 4760
C16: FBC | D16: 2380 | G16: =E16-F16 -> 0 | H16: =+G16*D16 -> 0 | I16: 0 | J16: 0 | K16: 0 | L16: 0
C17: OP(G) | D17: 3500 | G17: =E17-F17 -> 0 | H17: =+G17*D17 -> 0 | I17: 0 | J17: 0 | K17: 0 | L17: 0
C18: 補 充 券 | G18: =E18-F18 -> 0 | I18: 0 | J18: 0 | K18: 0 | L18: 0
C19: 小 計 | E19: =SUM(E9:E18) -> 0 | F19: =SUM(F9:F18) -> 0 | G19: =SUM(G9:G18) -> 0 | H19: =SUM(H9:H18) -> 0 | I19: 138 | J19: 0 | K19: 138 | L19: 675760
B20: 水晶岬航路 | C20: Ａ | D20: 4000 | G20: =E20-F20 -> 0 | H20: =+G20*D20 -> 0 | I20: 0 | J20: 0 | K20: 0 | L20: 0
C21: FA | D21: 4000 | G21: =E21-F21 -> 0 | H21: =+G21*D21 -> 0 | I21: 0 | J21: 0 | K21: 0 | L21: 0
C22: AC | D22: 2000 | G22: =E22-F22 -> 0 | H22: =+G22*D22 -> 0 | I22: 0 | J22: 0 | K22: 0 | L22: 0
C23: FAC | D23: 2000 | G23: =E23-F23 -> 0 | H23: =+G23*D23 -> 0 | I23: 0 | J23: 0 | K23: 0 | L23: 0
C24: Ｂ | D24: 3800 | G24: =E24-F24 -> 0 | H24: =+G24*D24 -> 0 | I24: 0 | J24: 0 | K24: 0 | L24: 0
C25: FB | D25: 3800 | G25: =E25-F25 -> 0 | H25: =+G25*D25 -> 0 | I25: 0 | J25: 0 | K25: 0 | L25: 0
C26: BC | D26: 1900 | G26: =E26-F26 -> 0 | H26: =+G26*D26 -> 0 | I26: 0 | J26: 0 | K26: 0 | L26: 0
C27: FBC | D27: 1900 | G27: =E27-F27 -> 0 | H27: =+G27*D27 -> 0 | I27: 0 | J27: 0 | K27: 0 | L27: 0
C28: OP(G) | D28: 2800 | G28: =E28-F28 -> 0 | H28: =+G28*D28 -> 0 | I28: 0 | J28: 0 | K28: 0 | L28: 0
C29: 補 充 券 | G29: =E29-F29 -> 0 | I29: 0 | J29: 0 | K29: 0 | L29: 0
C30: 小 計 | E30: =SUM(E20:E29) -> 0 | F30: =SUM(F20:F29) -> 0 | G30: =SUM(G20:G29) -> 0 | H30: =SUM(H20:H29) -> 0 | I30: 0 | J30: 0 | K30: 0 | L30: 0
B31: 岩尾別航路 | C31: Ａ | D31: 3000 | G31: =E31-F31 -> 0 | H31: =+G31*D31 -> 0 | I31: 0 | J31: 0 | K31: 0 | L31: 0
C32: FA | D32: 3000 | G32: =E32-F32 -> 0 | H32: =+G32*D32 -> 0 | I32: 0 | J32: 0 | K32: 0 | L32: 0
C33: AC | D33: 1500 | G33: =E33-F33 -> 0 | H33: =+G33*D33 -> 0 | I33: 0 | J33: 0 | K33: 0 | L33: 0
C34: FAC | D34: 1500 | G34: =E34-F34 -> 0 | H34: =+G34*D34 -> 0 | I34: 0 | J34: 0 | K34: 0 | L34: 0
C35: Ｂ | D35: 2850 | G35: =E35-F35 -> 0 | H35: =+G35*D35 -> 0 | I35: 0 | J35: 0 | K35: 0 | L35: 0
C36: FB | D36: 2850 | G36: =E36-F36 -> 0 | H36: =+G36*D36 -> 0 | I36: 0 | J36: 0 | K36: 0 | L36: 0
C37: BC | D37: 1430 | G37: =E37-F37 -> 0 | H37: =+G37*D37 -> 0 | I37: 0 | J37: 0 | K37: 0 | L37: 0
C38: FBC | D38: 1430 | G38: =E38-F38 -> 0 | H38: =+G38*D38 -> 0 | I38: 0 | J38: 0 | K38: 0 | L38: 0
C39: OP(G) | D39: 2100 | G39: =E39-F39 -> 0 | H39: =+G39*D39 -> 0 | I39: 0 | J39: 0 | K39: 0 | L39: 0
C40: 補 充 券 | G40: =E40-F40 -> 0 | I40: 0 | J40: 0 | K40: 0 | L40: 0
C41: 小 計 | E41: =SUM(E31:E40) -> 0 | F41: =SUM(F31:F40) -> 0 | G41: =SUM(G31:G40) -> 0 | H41: =SUM(H31:H40) -> 0 | I41: 0 | J41: 0 | K41: 0 | L41: 0
B42: 知床岬航路 | C42: Ａ | D42: 10000 | G42: =E42-F42 -> 0 | H42: =+G42*D42 -> 0 | I42: 0 | J42: 0 | K42: 0 | L42: 0
C43: FA | D43: 10000 | G43: =E43-F43 -> 0 | H43: =+G43*D43 -> 0 | I43: 0 | J43: 0 | K43: 0 | L43: 0
C44: AC | D44: 5000 | G44: =E44-F44 -> 0 | H44: =+G44*D44 -> 0 | I44: 0 | J44: 0 | K44: 0 | L44: 0
C45: FAC | D45: 5000 | G45: =E45-F45 -> 0 | H45: =+G45*D45 -> 0 | I45: 0 | J45: 0 | K45: 0 | L45: 0
...

Sheet 航路別
A1: 令和 年 月 日
B2: 航路 | C2: 条件
B3: ｶﾑｲﾜｯｶ | C3: 航 | D3: 船 | F3: 一般A | G3: 団体B | H3: 学割 | I3: 小人A | J3: 小人B | L3: 大人 | M3: 子供 | N3: 合計 | O3: 換算人数 | P3: 航海数 | Q3: 硫黄山
C4: A | D4: 1 | F4: =日報!AN62+日報!AN116+日報!AN170+日報!AN224+日報!AN278+日報!AN332+日報!AN386+日報!AN440+日報!AN494+日報!AN548+日報!AN602+日報!AN656+日報!AN710+日報!AN764+日報!AN818+日報!AN872+日報!AN926+日報!AN980+日報!AN1034+日報!AN1088+日報!AN1142+日報!AN1196+日報!AN1250+日報!AN1304+日報!AN1358+日報!AN1412+日報!AN1466+日報!AN1520+日報!AN1574+日報!AN1628+日報!AN1682 -> 1061 | G4: =日報!AO62+日報!AO116+日報!AO170+日報!AO224+日報!AO278+日報!AO332+日報!AO386+日報!AO440+日報!AO494+日報!AO548+日報!AO602+日報!AO656+日報!AO710+日報!AO764+日報!AO818+日報!AO872+日報!AO926+日報!AO980+日報!AO1034+日報!AO1088+日報!AO1142+日報!AO1196+日報!AO1250+日報!AO1304+日報!AO1358+日報!AO1412+日報!AO1466+日報!AO1520+日報!AO1574+日報!AO1628+日報!AO1682 -> 2088 | H4: =日報!AP62+日報!AP116+日報!AP170+日報!AP224+日報!AP278+日報!AP332+日報!AP386+日報!AP440+日報!AP494+日報!AP548+日報!AP602+日報!AP656+日報!AP710+日報!AP764+日報!AP818+日報!AP872+日報!AP926+日報!AP980+日報!AP1034+日報!AP1088+日報!AP1142+日報!AP1196+日報!AP1250+日報!AP1304+日報!AP1358+日報!AP1412+日報!AP1466+日報!AP1520+日報!AP1574+日報!AP1628+日報!AP1682 -> 58 | I4: =日報!AQ62+日報!AQ116+日報!AQ170+日報!AQ224+日報!AQ278+日報!AQ332+日報!AQ386+日報!AQ440+日報!AQ494+日報!AQ548+日報!AQ602+日報!AQ656+日報!AQ710+日報!AQ764+日報!AQ818+日報!AQ872+日報!AQ926+日報!AQ980+日報!AQ1034+日報!AQ1088+日報!AQ1142+日報!AQ1196+日報!AQ1250+日報!AQ1304+日報!AQ1358+日報!AQ1412+日報!AQ1466+日報!AQ1520+日報!AQ1574+日報!AQ1628+日報!AQ1682 -> 38 | J4: =日報!AR62+日報!AR116+日報!AR170+日報!AR224+日報!AR278+日報!AR332+日報!AR386+日報!AR440+日報!AR494+日報!AR548+日報!AR602+日報!AR656+日報!AR710+日報!AR764+日報!AR818+日報!AR872+日報!AR926+日報!AR980+日報!AR1034+日報!AR1088+日報!AR1142+日報!AR1196+日報!AR1250+日報!AR1304+日報!AR1358+日報!AR1412+日報!AR1466+日報!AR1520+日報!AR1574+日報!AR1628+日報!AR1682 -> 9 | L4: =F4+G4+H4 -> 3207 | M4: =I4+J4 -> 47 | N4: =L4+M4 -> 3254 | O4: =(L4*1)+(M4*0.5) -> 3230.5 | P4: =日報!AX62+日報!AX116+日報!AX170+日報!AX224+日報!AX278+日報!AX332+日報!AX386+日報!AX440+日報!AX494+日報!AX548+日報!AX602+日報!AX656+日報!AX710+日報!AX764+日報!AX818+日報!AX872+日報!AX926+日報!AX980+日報!AX1034+日報!AX1088+日報!AX1142+日報!AX1196+日報!AX1250+日報!AX1304+日報!AX1358+日報!AX1412+日報!AX1466+日報!AX1520+日報!AX1574+日報!AX1628+日報!AX1682 -> 58
C5: 航 | D5: 船
C6: A | D6: 3 | F6: =日報!AN64+日報!AN118+日報!AN172+日報!AN226+日報!AN280+日報!AN334+日報!AN388+日報!AN442+日報!AN496+日報!AN550+日報!AN604+日報!AN658+日報!AN712+日報!AN766+日報!AN820+日報!AN874+日報!AN928+日報!AN982+日報!AN1036+日報!AN1090+日報!AN1144+日報!AN1198+日報!AN1252+日報!AN1306+日報!AN1360+日報!AN1414+日報!AN1468+日報!AN1522+日報!AN1576+日報!AN1630+日報!AN1684 -> 97 | G6: =日報!AO64+日報!AO118+日報!AO172+日報!AO226+日報!AO280+日報!AO334+日報!AO388+日報!AO442+日報!AO496+日報!AO550+日報!AO604+日報!AO658+日報!AO712+日報!AO766+日報!AO820+日報!AO874+日報!AO928+日報!AO982+日報!AO1036+日報!AO1090+日報!AO1144+日報!AO1198+日報!AO1252+日報!AO1306+日報!AO1360+日報!AO1414+日報!AO1468+日報!AO1522+日報!AO1576+日報!AO1630+日報!AO1684 -> 12 | H6: =日報!AP64+日報!AP118+日報!AP172+日報!AP226+日報!AP280+日報!AP334+日報!AP388+日報!AP442+日報!AP496+日報!AP550+日報!AP604+日報!AP658+日報!AP712+日報!AP766+日報!AP820+日報!AP874+日報!AP928+日報!AP982+日報!AP1036+日報!AP1090+日報!AP1144+日報!AP1198+日報!AP1252+日報!AP1306+日報!AP1360+日報!AP1414+日報!AP1468+日報!AP1522+日報!AP1576+日報!AP1630+日報!AP1684 -> 0 | I6: =日報!AQ64+日報!AQ118+日報!AQ172+日報!AQ226+日報!AQ280+日報!AQ334+日報!AQ388+日報!AQ442+日報!AQ496+日報!AQ550+日報!AQ604+日報!AQ658+日報!AQ712+日報!AQ766+日報!AQ820+日報!AQ874+日報!AQ928+日報!AQ982+日報!AQ1036+日報!AQ1090+日報!AQ1144+日報!AQ1198+日報!AQ1252+日報!AQ1306+日報!AQ1360+日報!AQ1414+日報!AQ1468+日報!AQ1522+日報!AQ1576+日報!AQ1630+日報!AQ1684 -> 0 | J6: =日報!AR64+日報!AR118+日報!AR172+日報!AR226+日報!AR280+日報!AR334+日報!AR388+日報!AR442+日報!AR496+日報!AR550+日報!AR604+日報!AR658+日報!AR712+日報!AR766+日報!AR820+日報!AR874+日報!AR928+日報!AR982+日報!AR1036+日報!AR1090+日報!AR1144+日報!AR1198+日報!AR1252+日報!AR1306+日報!AR1360+日報!AR1414+日報!AR1468+日報!AR1522+日報!AR1576+日報!AR1630+日報!AR1684 -> 3 | L6: =F6+G6+H6 -> 109 | M6: =I6+J6 -> 3 | N6: =L6+M6 -> 112 | O6: =(L6*1)+(M6*0.5) -> 110.5 | P6: =日報!AX64+日報!AX118+日報!AX172+日報!AX226+日報!AX280+日報!AX334+日報!AX388+日報!AX442+日報!AX496+日報!AX550+日報!AX604+日報!AX658+日報!AX712+日報!AX766+日報!AX820+日報!AX874+日報!AX928+日報!AX982+日報!AX1036+日報!AX1090+日報!AX1144+日報!AX1198+日報!AX1252+日報!AX1306+日報!AX1360+日報!AX1414+日報!AX1468+日報!AX1522+日報!AX1576+日報!AX1630+日報!AX1684 -> 6
B8: 水晶岬 | C8: 航 | D8: 船 | F8: 一般A | G8: 団体B | H8: 学割 | I8: 小人A | J8: 小人B | L8: 大人 | M8: 子供 | N8: 合計 | O8: 換算人数 | P8: 航海数 | Q8: 水晶岬
C9: B | D9: 1 | F9: =日報!AN67+日報!AN121+日報!AN175+日報!AN229+日報!AN283+日報!AN337+日報!AN391+日報!AN445+日報!AN499+日報!AN553+日報!AN607+日報!AN661+日報!AN715+日報!AN769+日報!AN823+日報!AN877+日報!AN931+日報!AN985+日報!AN1039+日報!AN1093+日報!AN1147+日報!AN1201+日報!AN1255+日報!AN1309+日報!AN1363+日報!AN1417+日報!AN1471+日報!AN1525+日報!AN1579+日報!AN1633+日報!AN1687 -> 0 | G9: =日報!AO67+日報!AO121+日報!AO175+日報!AO229+日報!AO283+日報!AO337+日報!AO391+日報!AO445+日報!AO499+日報!AO553+日報!AO607+日報!AO661+日報!AO715+日報!AO769+日報!AO823+日報!AO877+日報!AO931+日報!AO985+日報!AO1039+日報!AO1093+日報!AO1147+日報!AO1201+日報!AO1255+日報!AO1309+日報!AO1363+日報!AO1417+日報!AO1471+日報!AO1525+日報!AO1579+日報!AO1633+日報!AO1687 -> 0 | H9: =日報!AP67+日報!AP121+日報!AP175+日報!AP229+日報!AP283+日報!AP337+日報!AP391+日報!AP445+日報!AP499+日報!AP553+日報!AP607+日報!AP661+日報!AP715+日報!AP769+日報!AP823+日報!AP877+日報!AP931+日報!AP985+日報!AP1039+日報!AP1093+日報!AP1147+日報!AP1201+日報!AP1255+日報!AP1309+日報!AP1363+日報!AP1417+日報!AP1471+日報!AP1525+日報!AP1579+日報!AP1633+日報!AP1687 -> 0 | I9: =日報!AQ67+日報!AQ121+日報!AQ175+日報!AQ229+日報!AQ283+日報!AQ337+日報!AQ391+日報!AQ445+日報!AQ499+日報!AQ553+日報!AQ607+日報!AQ661+日報!AQ715+日報!AQ769+日報!AQ823+日報!AQ877+日報!AQ931+日報!AQ985+日報!AQ1039+日報!AQ1093+日報!AQ1147+日報!AQ1201+日報!AQ1255+日報!AQ1309+日報!AQ1363+日報!AQ1417+日報!AQ1471+日報!AQ1525+日報!AQ1579+日報!AQ1633+日報!AQ1687 -> 0 | J9: =日報!AR67+日報!AR121+日報!AR175+日報!AR229+日報!AR283+日報!AR337+日報!AR391+日報!AR445+日報!AR499+日報!AR553+日報!AR607+日報!AR661+日報!AR715+日報!AR769+日報!AR823+日報!AR877+日報!AR931+日報!AR985+日報!AR1039+日報!AR1093+日報!AR1147+日報!AR1201+日報!AR1255+日報!AR1309+日報!AR1363+日報!AR1417+日報!AR1471+日報!AR1525+日報!AR1579+日報!AR1633+日報!AR1687 -> 0 | L9: =F9+G9+H9 -> 0 | M9: =I9+J9 -> 0 | N9: =L9+M9 -> 0 | O9: =(L9*1)+(M9*0.5) -> 0 | P9: =日報!AX67+日報!AX121+日報!AX175+日報!AX229+日報!AX283+日報!AX337+日報!AX391+日報!AX445+日報!AX499+日報!AX553+日報!AX607+日報!AX661+日報!AX715+日報!AX769+日報!AX823+日報!AX877+日報!AX931+日報!AX985+日報!AX1039+日報!AX1093+日報!AX1147+日報!AX1201+日報!AX1255+日報!AX1309+日報!AX1363+日報!AX1417+日報!AX1471+日報!AX1525+日報!AX1579+日報!AX1633+日報!AX1687 -> 0
C10: 航 | D10: 船
C11: B | D11: 3 | F11: =日報!AN69+日報!AN123+日報!AN177+日報!AN231+日報!AN285+日報!AN339+日報!AN393+日報!AN447+日報!AN501+日報!AN555+日報!AN609+日報!AN663+日報!AN717+日報!AN771+日報!AN825+日報!AN879+日報!AN933+日報!AN987+日報!AN1041+日報!AN1095+日報!AN1149+日報!AN1203+日報!AN1257+日報!AN1311+日報!AN1365+日報!AN1419+日報!AN1473+日報!AN1527+日報!AN1581+日報!AN1635+日報!AN1689 -> 0 | G11: =日報!AO69+日報!AO123+日報!AO177+日報!AO231+日報!AO285+日報!AO339+日報!AO393+日報!AO447+日報!AO501+日報!AO555+日報!AO609+日報!AO663+日報!AO717+日報!AO771+日報!AO825+日報!AO879+日報!AO933+日報!AO987+日報!AO1041+日報!AO1095+日報!AO1149+日報!AO1203+日報!AO1257+日報!AO1311+日報!AO1365+日報!AO1419+日報!AO1473+日報!AO1527+日報!AO1581+日報!AO1635+日報!AO1689 -> 0 | H11: =日報!AP69+日報!AP123+日報!AP177+日報!AP231+日報!AP285+日報!AP339+日報!AP393+日報!AP447+日報!AP501+日報!AP555+日報!AP609+日報!AP663+日報!AP717+日報!AP771+日報!AP825+日報!AP879+日報!AP933+日報!AP987+日報!AP1041+日報!AP1095+日報!AP1149+日報!AP1203+日報!AP1257+日報!AP1311+日報!AP1365+日報!AP1419+日報!AP1473+日報!AP1527+日報!AP1581+日報!AP1635+日報!AP1689 -> 0 | I11: =日報!AQ69+日報!AQ123+日報!AQ177+日報!AQ231+日報!AQ285+日報!AQ339+日報!AQ393+日報!AQ447+日報!AQ501+日報!AQ555+日報!AQ609+日報!AQ663+日報!AQ717+日報!AQ771+日報!AQ825+日報!AQ879+日報!AQ933+日報!AQ987+日報!AQ1041+日報!AQ1095+日報!AQ1149+日報!AQ1203+日報!AQ1257+日報!AQ1311+日報!AQ1365+日報!AQ1419+日報!AQ1473+日報!AQ1527+日報!AQ1581+日報!AQ1635+日報!AQ1689 -> 0 | J11: =日報!AR69+日報!AR123+日報!AR177+日報!AR231+日報!AR285+日報!AR339+日報!AR393+日報!AR447+日報!AR501+日報!AR555+日報!AR609+日報!AR663+日報!AR717+日報!AR771+日報!AR825+日報!AR879+日報!AR933+日報!AR987+日報!AR1041+日報!AR1095+日報!AR1149+日報!AR1203+日報!AR1257+日報!AR1311+日報!AR1365+日報!AR1419+日報!AR1473+日報!AR1527+日報!AR1581+日報!AR1635+日報!AR1689 -> 0 | L11: =F11+G11+H11 -> 0 | M11: =I11+J11 -> 0 | N11: =L11+M11 -> 0 | O11: =(L11*1)+(M11*0.5) -> 0 | P11: =日報!AX69+日報!AX123+日報!AX177+日報!AX231+日報!AX285+日報!AX339+日報!AX393+日報!AX447+日報!AX501+日報!AX555+日報!AX609+日報!AX663+日報!AX717+日報!AX771+日報!AX825+日報!AX879+日報!AX933+日報!AX987+日報!AX1041+日報!AX1095+日報!AX1149+日報!AX1203+日報!AX1257+日報!AX1311+日報!AX1365+日報!AX1419+日報!AX1473+日報!AX1527+日報!AX1581+日報!AX1635+日報!AX1689 -> 0
B13: 岩尾別 | C13: 航 | D13: 船 | F13: 一般A | G13: 団体B | H13: 学割 | I13: 小人A | J13: 小人B | L13: 大人 | M13: 子供 | N13: 合計 | O13: 換算人数 | P13: 航海数 | Q13: 岩尾別
C14: C | D14: 1 | F14: =日報!AN72+日報!AN126+日報!AN180+日報!AN234+日報!AN288+日報!AN342+日報!AN396+日報!AN450+日報!AN504+日報!AN558+日報!AN612+日報!AN666+日報!AN720+日報!AN774+日報!AN828+日報!AN882+日報!AN936+日報!AN990+日報!AN1044+日報!AN1098+日報!AN1152+日報!AN1206+日報!AN1260+日報!AN1314+日報!AN1368+日報!AN1422+日報!AN1476+日報!AN1530+日報!AN1584+日報!AN1638+日報!AN1692 -> 70 | G14: =日報!AO72+日報!AO126+日報!AO180+日報!AO234+日報!AO288+日報!AO342+日報!AO396+日報!AO450+日報!AO504+日報!AO558+日報!AO612+日報!AO666+日報!AO720+日報!AO774+日報!AO828+日報!AO882+日報!AO936+日報!AO990+日報!AO1044+日報!AO1098+日報!AO1152+日報!AO1206+日報!AO1260+日報!AO1314+日報!AO1368+日報!AO1422+日報!AO1476+日報!AO1530+日報!AO1584+日報!AO1638+日報!AO1692 -> 217 | H14: =日報!AP72+日報!AP126+日報!AP180+日報!AP234+日報!AP288+日報!AP342+日報!AP396+日報!AP450+日報!AP504+日報!AP558+日報!AP612+日報!AP666+日報!AP720+日報!AP774+日報!AP828+日報!AP882+日報!AP936+日報!AP990+日報!AP1044+日報!AP1098+日報!AP1152+日報!AP1206+日報!AP1260+日報!AP1314+日報!AP1368+日報!AP1422+日報!AP1476+日報!AP1530+日報!AP1584+日報!AP1638+日報!AP1692 -> 0 | I14: =日報!AQ72+日報!AQ126+日報!AQ180+日報!AQ234+日報!AQ288+日報!AQ342+日報!AQ396+日報!AQ450+日報!AQ504+日報!AQ558+日報!AQ612+日報!AQ666+日報!AQ720+日報!AQ774+日報!AQ828+日報!AQ882+日報!AQ936+日報!AQ990+日報!AQ1044+日報!AQ1098+日報!AQ1152+日報!AQ1206+日報!AQ1260+日報!AQ1314+日報!AQ1368+日報!AQ1422+日報!AQ1476+日報!AQ1530+日報!AQ1584+日報!AQ1638+日報!AQ1692 -> 2 | J14: =日報!AR72+日報!AR126+日報!AR180+日報!AR234+日報!AR288+日報!AR342+日報!AR396+日報!AR450+日報!AR504+日報!AR558+日報!AR612+日報!AR666+日報!AR720+日報!AR774+日報!AR828+日報!AR882+日報!AR936+日報!AR990+日報!AR1044+日報!AR1098+日報!AR1152+日報!AR1206+日報!AR1260+日報!AR1314+日報!AR1368+日報!AR1422+日報!AR1476+日報!AR1530+日報!AR1584+日報!AR1638+日報!AR1692 -> 0 | L14: =F14+G14+H14 -> 287 | M14: =I14+J14 -> 2 | N14: =L14+M14 -> 289 | O14: =(L14*1)+(M14*0.5) -> 288 | P14: =日報!AX72+日報!AX126+日報!AX180+日報!AX234+日報!AX288+日報!AX342+日報!AX396+日報!AX450+日報!AX504+日報!AX558+日報!AX612+日報!AX666+日報!AX720+日報!AX774+日報!AX828+日報!AX882+日報!AX936+日報!AX990+日報!AX1044+日報!AX1098+日報!AX1152+日報!AX1206+日報!AX1260+日報!AX1314+日報!AX1368+日報!AX1422+日報!AX1476+日報!AX1530+日報!AX1584+日報!AX1638+日報!AX1692 -> 5
C15: 航 | D15: 船
C16: C | D16: 3 | F16: =日報!AN74+日報!AN128+日報!AN182+日報!AN236+日報!AN290+日報!AN344+日報!AN398+日報!AN452+日報!AN506+日報!AN560+日報!AN614+日報!AN668+日報!AN722+日報!AN776+日報!AN830+日報!AN884+日報!AN938+日報!AN992+日報!AN1046+日報!AN1100+日報!AN1154+日報!AN1208+日報!AN1262+日報!AN1316+日報!AN1370+日報!AN1424+日報!AN1478+日報!AN1532+日報!AN1586+日報!AN1640+日報!AN1694 -> 0 | G16: =日報!AO74+日報!AO128+日報!AO182+日報!AO236+日報!AO290+日報!AO344+日報!AO398+日報!AO452+日報!AO506+日報!AO560+日報!AO614+日報!AO668+日報!AO722+日報!AO776+日報!AO830+日報!AO884+日報!AO938+日報!AO992+日報!AO1046+日報!AO1100+日報!AO1154+日報!AO1208+日報!AO1262+日報!AO1316+日報!AO1370+日報!AO1424+日報!AO1478+日報!AO1532+日報!AO1586+日報!AO1640+日報!AO1694 -> 0 | H16: =日報!AP74+日報!AP128+日報!AP182+日報!AP236+日報!AP290+日報!AP344+日報!AP398+日報!AP452+日報!AP506+日報!AP560+日報!AP614+日報!AP668+日報!AP722+日報!AP776+日報!AP830+日報!AP884+日報!AP938+日報!AP992+日報!AP1046+日報!AP1100+日報!AP1154+日報!AP1208+日報!AP1262+日報!AP1316+日報!AP1370+日報!AP1424+日報!AP1478+日報!AP1532+日報!AP1586+日報!AP1640+日報!AP1694 -> 0 | I16: =日報!AQ74+日報!AQ128+日報!AQ182+日報!AQ236+日報!AQ290+日報!AQ344+日報!AQ398+日報!AQ452+日報!AQ506+日報!AQ560+日報!AQ614+日報!AQ668+日報!AQ722+日報!AQ776+日報!AQ830+日報!AQ884+日報!AQ938+日報!AQ992+日報!AQ1046+日報!AQ1100+日報!AQ1154+日報!AQ1208+日報!AQ1262+日報!AQ1316+日報!AQ1370+日報!AQ1424+日報!AQ1478+日報!AQ1532+日報!AQ1586+日報!AQ1640+日報!AQ1694 -> 0 | J16: =日報!AR74+日報!AR128+日報!AR182+日報!AR236+日報!AR290+日報!AR344+日報!AR398+日報!AR452+日報!AR506+日報!AR560+日報!AR614+日報!AR668+日報!AR722+日報!AR776+日報!AR830+日報!AR884+日報!AR938+日報!AR992+日報!AR1046+日報!AR1100+日報!AR1154+日報!AR1208+日報!AR1262+日報!AR1316+日報!AR1370+日報!AR1424+日報!AR1478+日報!AR1532+日報!AR1586+日報!AR1640+日報!AR1694 -> 0 | L16: =F16+G16+H16 -> 0 | M16: =I16+J16 -> 0 | N16: =L16+M16 -> 0 | O16: =(L16*1)+(M16*0.5) -> 0 | P16: =日報!AX74+日報!AX128+日報!AX182+日報!AX236+日報!AX290+日報!AX344+日報!AX398+日報!AX452+日報!AX506+日報!AX560+日報!AX614+日報!AX668+日報!AX722+日報!AX776+日報!AX830+日報!AX884+日報!AX938+日報!AX992+日報!AX1046+日報!AX1100+日報!AX1154+日報!AX1208+日報!AX1262+日報!AX1316+日報!AX1370+日報!AX1424+日報!AX1478+日報!AX1532+日報!AX1586+日報!AX1640+日報!AX1694 -> 0
B18: 知床岬 | C18: 航 | D18: 船 | F18: 一般A | G18: 団体B | H18: 学割 | I18: 小人A | J18: 小人B | L18: 大人 | M18: 子供 | N18: 合計 | O18: 換算人数 | P18: 航海数 | Q18: 知床岬
C19: D | D19: 1 | F19: =日報!AN77+日報!AN131+日報!AN185+日報!AN239+日報!AN293+日報!AN347+日報!AN401+日報!AN455+日報!AN509+日報!AN563+日報!AN617+日報!AN671+日報!AN725+日報!AN779+日報!AN833+日報!AN887+日報!AN941+日報!AN995+日報!AN1049+日報!AN1103+日報!AN1157+日報!AN1211+日報!AN1265+日報!AN1319+日報!AN1373+日報!AN1427+日報!AN1481+日報!AN1535+日報!AN1589+日報!AN1643+日報!AN1697 -> 60 | G19: =日報!AO77+日報!AO131+日報!AO185+日報!AO239+日報!AO293+日報!AO347+日報!AO401+日報!AO455+日報!AO509+日報!AO563+日報!AO617+日報!AO671+日報!AO725+日報!AO779+日報!AO833+日報!AO887+日報!AO941+日報!AO995+日報!AO1049+日報!AO1103+日報!AO1157+日報!AO1211+日報!AO1265+日報!AO1319+日報!AO1373+日報!AO1427+日報!AO1481+日報!AO1535+日報!AO1589+日報!AO1643+日報!AO1697 -> 9 | H19: =日報!AP77+日報!AP131+日報!AP185+日報!AP239+日報!AP293+日報!AP347+日報!AP401+日報!AP455+日報!AP509+日報!AP563+日報!AP617+日報!AP671+日報!AP725+日報!AP779+日報!AP833+日報!AP887+日報!AP941+日報!AP995+日報!AP1049+日報!AP1103+日報!AP1157+日報!AP1211+日報!AP1265+日報!AP1319+日報!AP1373+日報!AP1427+日報!AP1481+日報!AP1535+日報!AP1589+日報!AP1643+日報!AP1697 -> 0 | I19: =日報!AQ77+日報!AQ131+日報!AQ185+日報!AQ239+日報!AQ293+日報!AQ347+日報!AQ401+日報!AQ455+日報!AQ509+日報!AQ563+日報!AQ617+日報!AQ671+日報!AQ725+日報!AQ779+日報!AQ833+日報!AQ887+日報!AQ941+日報!AQ995+日報!AQ1049+日報!AQ1103+日報!AQ1157+日報!AQ1211+日報!AQ1265+日報!AQ1319+日報!AQ1373+日報!AQ1427+日報!AQ1481+日報!AQ1535+日報!AQ1589+日報!AQ1643+日報!AQ1697 -> 2 | J19: =日報!AR77+日報!AR131+日報!AR185+日報!AR239+日報!AR293+日報!AR347+日報!AR401+日報!AR455+日報!AR509+日報!AR563+日報!AR617+日報!AR671+日報!AR725+日報!AR779+日報!AR833+日報!AR887+日報!AR941+日報!AR995+日報!AR1049+日報!AR1103+日報!AR1157+日報!AR1211+日報!AR1265+日報!AR1319+日報!AR1373+日報!AR1427+日報!AR1481+日報!AR1535+日報!AR1589+日報!AR1643+日報!AR1697 -> 0 | L19: =F19+G19+H19 -> 69 | M19: =I19+J19 -> 2 | N19: =L19+M19 -> 71 | O19: =(L19*1)+(M19*0.5) -> 70 | P19: =日報!AX77+日報!AX131+日報!AX185+日報!AX239+日報!AX293+日報!AX347+日報!AX401+日報!AX455+日報!AX509+日報!AX563+日報!AX617+日報!AX671+日報!AX725+日報!AX779+日報!AX833+日報!AX887+日報!AX941+日報!AX995+日報!AX1049+日報!AX1103+日報!AX1157+日報!AX1211+日報!AX1265+日報!AX1319+日報!AX1373+日報!AX1427+日報!AX1481+日報!AX1535+日報!AX1589+日報!AX1643+日報!AX1697 -> 1
C20: 航 | D20: 船
C21: D | D21: 3 | F21: =日報!AN79+日報!AN133+日報!AN187+日報!AN241+日報!AN295+日報!AN349+日報!AN403+日報!AN457+日報!AN511+日報!AN565+日報!AN619+日報!AN673+日報!AN727+日報!AN781+日報!AN835+日報!AN889+日報!AN943+日報!AN997+日報!AN1051+日報!AN1105+日報!AN1159+日報!AN1213+日報!AN1267+日報!AN1321+日報!AN1375+日報!AN1429+日報!AN1483+日報!AN1537+日報!AN1591+日報!AN1645+日報!AN1699 -> 0 | G21: =日報!AO79+日報!AO133+日報!AO187+日報!AO241+日報!AO295+日報!AO349+日報!AO403+日報!AO457+日報!AO511+日報!AO565+日報!AO619+日報!AO673+日報!AO727+日報!AO781+日報!AO835+日報!AO889+日報!AO943+日報!AO997+日報!AO1051+日報!AO1105+日報!AO1159+日報!AO1213+日報!AO1267+日報!AO1321+日報!AO1375+日報!AO1429+日報!AO1483+日報!AO1537+日報!AO1591+日報!AO1645+日報!AO1699 -> 0 | H21: =日報!AP79+日報!AP133+日報!AP187+日報!AP241+日報!AP295+日報!AP349+日報!AP403+日報!AP457+日報!AP511+日報!AP565+日報!AP619+日報!AP673+日報!AP727+日報!AP781+日報!AP835+日報!AP889+日報!AP943+日報!AP997+日報!AP1051+日報!AP1105+日報!AP1159+日報!AP1213+日報!AP1267+日報!AP1321+日報!AP1375+日報!AP1429+日報!AP1483+日報!AP1537+日報!AP1591+日報!AP1645+日報!AP1699 -> 0 | I21: =日報!AQ79+日報!AQ133+日報!AQ187+日報!AQ241+日報!AQ295+日報!AQ349+日報!AQ403+日報!AQ457+日報!AQ511+日報!AQ565+日報!AQ619+日報!AQ673+日報!AQ727+日報!AQ781+日報!AQ835+日報!AQ889+日報!AQ943+日報!AQ997+日報!AQ1051+日報!AQ1105+日報!AQ1159+日報!AQ1213+日報!AQ1267+日報!AQ1321+日報!AQ1375+日報!AQ1429+日報!AQ1483+日報!AQ1537+日報!AQ1591+日報!AQ1645+日報!AQ1699 -> 0 | J21: =日報!AR79+日報!AR133+日報!AR187+日報!AR241+日報!AR295+日報!AR349+日報!AR403+日報!AR457+日報!AR511+日報!AR565+日報!AR619+日報!AR673+日報!AR727+日報!AR781+日報!AR835+日報!AR889+日報!AR943+日報!AR997+日報!AR1051+日報!AR1105+日報!AR1159+日報!AR1213+日報!AR1267+日報!AR1321+日報!AR1375+日報!AR1429+日報!AR1483+日報!AR1537+日報!AR1591+日報!AR1645+日報!AR1699 -> 0 | L21: =F21+G21+H21 -> 0 | M21: =I21+J21 -> 0 | N21: =L21+M21 -> 0 | O21: =(L21*1)+(M21*0.5) -> 0 | P21: =日報!AX79+日報!AX133+日報!AX187+日報!AX241+日報!AX295+日報!AX349+日報!AX403+日報!AX457+日報!AX511+日報!AX565+日報!AX619+日報!AX673+日報!AX727+日報!AX781+日報!AX835+日報!AX889+日報!AX943+日報!AX997+日報!AX1051+日報!AX1105+日報!AX1159+日報!AX1213+日報!AX1267+日報!AX1321+日報!AX1375+日報!AX1429+日報!AX1483+日報!AX1537+日報!AX1591+日報!AX1645+日報!AX1699 -> 0
B23: カシュニ | C23: 航 | D23: 船 | F23: 一般A | G23: 団体B | H23: 学割 | I23: 小人A | J23: 小人B | L23: 大人 | M23: 子供 | N23: 合計 | O23: 換算人数 | P23: 航海数 | Q23: カシュニ
C24: E | D24: 1 | F24: =日報!AN82+日報!AN136+日報!AN190+日報!AN244+日報!AN298+日報!AN352+日報!AN406+日報!AN460+日報!AN514+日報!AN568+日報!AN622+日報!AN676+日報!AN730+日報!AN784+日報!AN838+日報!AN892+日報!AN946+日報!AN1000+日報!AN1054+日報!AN1108+日報!AN1162+日報!AN1216+日報!AN1270+日報!AN1324+日報!AN1378+日報!AN1432+日報!AN1486+日報!AN1540+日報!AN1594+日報!AN1648+日報!AN1702 -> 0 | G24: =日報!AO82+日報!AO136+日報!AO190+日報!AO244+日報!AO298+日報!AO352+日報!AO406+日報!AO460+日報!AO514+日報!AO568+日報!AO622+日報!AO676+日報!AO730+日報!AO784+日報!AO838+日報!AO892+日報!AO946+日報!AO1000+日報!AO1054+日報!AO1108+日報!AO1162+日報!AO1216+日報!AO1270+日報!AO1324+日報!AO1378+日報!AO1432+日報!AO1486+日報!AO1540+日報!AO1594+日報!AO1648+日報!AO1702 -> 0 | H24: =日報!AP82+日報!AP136+日報!AP190+日報!AP244+日報!AP298+日報!AP352+日報!AP406+日報!AP460+日報!AP514+日報!AP568+日報!AP622+日報!AP676+日報!AP730+日報!AP784+日報!AP838+日報!AP892+日報!AP946+日報!AP1000+日報!AP1054+日報!AP1108+日報!AP1162+日報!AP1216+日報!AP1270+日報!AP1324+日報!AP1378+日報!AP1432+日報!AP1486+日報!AP1540+日報!AP1594+日報!AP1648+日報!AP1702 -> 0 | I24: =日報!AQ82+日報!AQ136+日報!AQ190+日報!AQ244+日報!AQ298+日報!AQ352+日報!AQ406+日報!AQ460+日報!AQ514+日報!AQ568+日報!AQ622+日報!AQ676+日報!AQ730+日報!AQ784+日報!AQ838+日報!AQ892+日報!AQ946+日報!AQ1000+日報!AQ1054+日報!AQ1108+日報!AQ1162+日報!AQ1216+日報!AQ1270+日報!AQ1324+日報!AQ1378+日報!AQ1432+日報!AQ1486+日報!AQ1540+日報!AQ1594+日報!AQ1648+日報!AQ1702 -> 0 | J24: =日報!AR82+日報!AR136+日報!AR190+日報!AR244+日報!AR298+日報!AR352+日報!AR406+日報!AR460+日報!AR514+日報!AR568+日報!AR622+日報!AR676+日報!AR730+日報!AR784+日報!AR838+日報!AR892+日報!AR946+日報!AR1000+日報!AR1054+日報!AR1108+日報!AR1162+日報!AR1216+日報!AR1270+日報!AR1324+日報!AR1378+日報!AR1432+日報!AR1486+日報!AR1540+日報!AR1594+日報!AR1648+日報!AR1702 -> 0 | L24: =F24+G24+H24 -> 0 | M24: =I24+J24 -> 0 | N24: =L24+M24 -> 0 | O24: =(L24*1)+(M24*0.5) -> 0 | P24: =日報!AX82+日報!AX136+日報!AX190+日報!AX244+日報!AX298+日報!AX352+日報!AX406+日報!AX460+日報!AX514+日報!AX568+日報!AX622+日報!AX676+日報!AX730+日報!AX784+日報!AX838+日報!AX892+日報!AX946+日報!AX1000+日報!AX1054+日報!AX1108+日報!AX1162+日報!AX1216+日報!AX1270+日報!AX1324+日報!AX1378+日報!AX1432+日報!AX1486+日報!AX1540+日報!AX1594+日報!AX1648+日報!AX1702 -> 0
C25: 航 | D25: 船
C26: E | D26: 3 | F26: =日報!AN84+日報!AN138+日報!AN192+日報!AN246+日報!AN300+日報!AN354+日報!AN408+日報!AN462+日報!AN516+日報!AN570+日報!AN624+日報!AN678+日報!AN732+日報!AN786+日報!AN840+日報!AN894+日報!AN948+日報!AN1002+日報!AN1056+日報!AN1110+日報!AN1164+日報!AN1218+日報!AN1272+日報!AN1326+日報!AN1380+日報!AN1434+日報!AN1488+日報!AN1542+日報!AN1596+日報!AN1650+日報!AN1704 -> 478 | G26: =日報!AO84+日報!AO138+日報!AO192+日報!AO246+日報!AO300+日報!AO354+日報!AO408+日報!AO462+日報!AO516+日報!AO570+日報!AO624+日報!AO678+日報!AO732+日報!AO786+日報!AO840+日報!AO894+日報!AO948+日報!AO1002+日報!AO1056+日報!AO1110+日報!AO1164+日報!AO1218+日報!AO1272+日報!AO1326+日報!AO1380+日報!AO1434+日報!AO1488+日報!AO1542+日報!AO1596+日報!AO1650+日報!AO1704 -> 122 | H26: =日報!AP84+日報!AP138+日報!AP192+日報!AP246+日報!AP300+日報!AP354+日報!AP408+日報!AP462+日報!AP516+日報!AP570+日報!AP624+日報!AP678+日報!AP732+日報!AP786+日報!AP840+日報!AP894+日報!AP948+日報!AP1002+日報!AP1056+日報!AP1110+日報!AP1164+日報!AP1218+日報!AP1272+日報!AP1326+日報!AP1380+日報!AP1434+日報!AP1488+日報!AP1542+日報!AP1596+日報!AP1650+日報!AP1704 -> 0 | I26: =日報!AQ84+日報!AQ138+日報!AQ192+日報!AQ246+日報!AQ300+日報!AQ354+日報!AQ408+日報!AQ462+日報!AQ516+日報!AQ570+日報!AQ624+日報!AQ678+日報!AQ732+日報!AQ786+日報!AQ840+日報!AQ894+日報!AQ948+日報!AQ1002+日報!AQ1056+日報!AQ1110+日報!AQ1164+日報!AQ1218+日報!AQ1272+日報!AQ1326+日報!AQ1380+日報!AQ1434+日報!AQ1488+日報!AQ1542+日報!AQ1596+日報!AQ1650+日報!AQ1704 -> 29 | J26: =日報!AR84+日報!AR138+日報!AR192+日報!AR246+日報!AR300+日報!AR354+日報!AR408+日報!AR462+日報!AR516+日報!AR570+日報!AR624+日報!AR678+日報!AR732+日報!AR786+日報!AR840+日報!AR894+日報!AR948+日報!AR1002+日報!AR1056+日報!AR1110+日報!AR1164+日報!AR1218+日報!AR1272+日報!AR1326+日報!AR1380+日報!AR1434+日報!AR1488+日報!AR1542+日報!AR1596+日報!AR1650+日報!AR1704 -> 54 | L26: =F26+G26+H26 -> 600 | M26: =I26+J26 -> 83 | N26: =L26+M26 -> 683 | O26: =(L26*1)+(M26*0.5) -> 641.5 | P26: =日報!AX84+日報!AX138+日報!AX192+日報!AX246+日報!AX300+日報!AX354+日報!AX408+日報!AX462+日報!AX516+日報!AX570+日報!AX624+日報!AX678+日報!AX732+日報!AX786+日報!AX840+日報!AX894+日報!AX948+日報!AX1002+日報!AX1056+日報!AX1110+日報!AX1164+日報!AX1218+日報!AX1272+日報!AX1326+日報!AX1380+日報!AX1434+日報!AX1488+日報!AX1542+日報!AX1596+日報!AX1650+日報!AX1704 -> 27
B28: フレペ | C28: 航 | D28: 船 | F28: 一般A | G28: 団体B | H28: 学割 | I28: 小人A | J28: 小人B | L28: 大人 | M28: 子供 | N28: 合計 | O28: 換算人数 | P28: 航海数 | Q28: フレペ
C29: F | D29: 1 | F29: =日報!AN87+日報!AN141+日報!AN195+日報!AN249+日報!AN303+日報!AN357+日報!AN411+日報!AN465+日報!AN519+日報!AN573+日報!AN627+日報!AN681+日報!AN735+日報!AN789+日報!AN843+日報!AN897+日報!AN951+日報!AN1005+日報!AN1059+日報!AN1113+日報!AN1167+日報!AN1221+日報!AN1275+日報!AN1329+日報!AN1383+日報!AN1437+日報!AN1491+日報!AN1545+日報!AN1599+日報!AN1653+日報!AN1707 -> 0 | G29: =日報!AO87+日報!AO141+日報!AO195+日報!AO249+日報!AO303+日報!AO357+日報!AO411+日報!AO465+日報!AO519+日報!AO573+日報!AO627+日報!AO681+日報!AO735+日報!AO789+日報!AO843+日報!AO897+日報!AO951+日報!AO1005+日報!AO1059+日報!AO1113+日報!AO1167+日報!AO1221+日報!AO1275+日報!AO1329+日報!AO1383+日報!AO1437+日報!AO1491+日報!AO1545+日報!AO1599+日報!AO1653+日報!AO1707 -> 0 | H29: =日報!AP87+日報!AP141+日報!AP195+日報!AP249+日報!AP303+日報!AP357+日報!AP411+日報!AP465+日報!AP519+日報!AP573+日報!AP627+日報!AP681+日報!AP735+日報!AP789+日報!AP843+日報!AP897+日報!AP951+日報!AP1005+日報!AP1059+日報!AP1113+日報!AP1167+日報!AP1221+日報!AP1275+日報!AP1329+日報!AP1383+日報!AP1437+日報!AP1491+日報!AP1545+日報!AP1599+日報!AP1653+日報!AP1707 -> 0 | I29: =日報!AQ87+日報!AQ141+日報!AQ195+日報!AQ249+日報!AQ303+日報!AQ357+日報!AQ411+日報!AQ465+日報!AQ519+日報!AQ573+日報!AQ627+日報!AQ681+日報!AQ735+日報!AQ789+日報!AQ843+日報!AQ897+日報!AQ951+日報!AQ1005+日報!AQ1059+日報!AQ1113+日報!AQ1167+日報!AQ1221+日報!AQ1275+日報!AQ1329+日報!AQ1383+日報!AQ1437+日報!AQ1491+日報!AQ1545+日報!AQ1599+日報!AQ1653+日報!AQ1707 -> 0 | J29: =日報!AR87+日報!AR141+日報!AR195+日報!AR249+日報!AR303+日報!AR357+日報!AR411+日報!AR465+日報!AR519+日報!AR573+日報!AR627+日報!AR681+日報!AR735+日報!AR789+日報!AR843+日報!AR897+日報!AR951+日報!AR1005+日報!AR1059+日報!AR1113+日報!AR1167+日報!AR1221+日報!AR1275+日報!AR1329+日報!AR1383+日報!AR1437+日報!AR1491+日報!AR1545+日報!AR1599+日報!AR1653+日報!AR1707 -> 0 | L29: =F29+G29+H29 -> 0 | M29: =I29+J29 -> 0 | N29: =L29+M29 -> 0 | O29: =(L29*1)+(M29*0.5) -> 0 | P29: =日報!AX87+日報!AX141+日報!AX195+日報!AX249+日報!AX303+日報!AX357+日報!AX411+日報!AX465+日報!AX519+日報!AX573+日報!AX627+日報!AX681+日報!AX735+日報!AX789+日報!AX843+日報!AX897+日報!AX951+日報!AX1005+日報!AX1059+日報!AX1113+日報!AX1167+日報!AX1221+日報!AX1275+日報!AX1329+日報!AX1383+日報!AX1437+日報!AX1491+日報!AX1545+日報!AX1599+日報!AX1653+日報!AX1707 -> 0
C30: 航 | D30: 船
C31: F | D31: 3 | F31: =日報!AN89+日報!AN143+日報!AN197+日報!AN251+日報!AN305+日報!AN359+日報!AN413+日報!AN467+日報!AN521+日報!AN575+日報!AN629+日報!AN683+日報!AN737+日報!AN791+日報!AN845+日報!AN899+日報!AN953+日報!AN1007+日報!AN1061+日報!AN1115+日報!AN1169+日報!AN1223+日報!AN1277+日報!AN1331+日報!AN1385+日報!AN1439+日報!AN1493+日報!AN1547+日報!AN1601+日報!AN1655+日報!AN1709 -> 0 | G31: =日報!AO89+日報!AO143+日報!AO197+日報!AO251+日報!AO305+日報!AO359+日報!AO413+日報!AO467+日報!AO521+日報!AO575+日報!AO629+日報!AO683+日報!AO737+日報!AO791+日報!AO845+日報!AO899+日報!AO953+日報!AO1007+日報!AO1061+日報!AO1115+日報!AO1169+日報!AO1223+日報!AO1277+日報!AO1331+日報!AO1385+日報!AO1439+日報!AO1493+日報!AO1547+日報!AO1601+日報!AO1655+日報!AO1709 -> 0 | H31: =日報!AP89+日報!AP143+日報!AP197+日報!AP251+日報!AP305+日報!AP359+日報!AP413+日報!AP467+日報!AP521+日報!AP575+日報!AP629+日報!AP683+日報!AP737+日報!AP791+日報!AP845+日報!AP899+日報!AP953+日報!AP1007+日報!AP1061+日報!AP1115+日報!AP1169+日報!AP1223+日報!AP1277+日報!AP1331+日報!AP1385+日報!AP1439+日報!AP1493+日報!AP1547+日報!AP1601+日報!AP1655+日報!AP1709 -> 0 | I31: =日報!AQ89+日報!AQ143+日報!AQ197+日報!AQ251+日報!AQ305+日報!AQ359+日報!AQ413+日報!AQ467+日報!AQ521+日報!AQ575+日報!AQ629+日報!AQ683+日報!AQ737+日報!AQ791+日報!AQ845+日報!AQ899+日報!AQ953+日報!AQ1007+日報!AQ1061+日報!AQ1115+日報!AQ1169+日報!AQ1223+日報!AQ1277+日報!AQ1331+日報!AQ1385+日報!AQ1439+日報!AQ1493+日報!AQ1547+日報!AQ1601+日報!AQ1655+日報!AQ1709 -> 0 | J31: =日報!AR89+日報!AR143+日報!AR197+日報!AR251+日報!AR305+日報!AR359+日報!AR413+日報!AR467+日報!AR521+日報!AR575+日報!AR629+日報!AR683+日報!AR737+日報!AR791+日報!AR845+日報!AR899+日報!AR953+日報!AR1007+日報!AR1061+日報!AR1115+日報!AR1169+日報!AR1223+日報!AR1277+日報!AR1331+日報!AR1385+日報!AR1439+日報!AR1493+日報!AR1547+日報!AR1601+日報!AR1655+日報!AR1709 -> 0 | L31: =F31+G31+H31 -> 0 | M31: =I31+J31 -> 0 | N31: =L31+M31 -> 0 | O31: =(L31*1)+(M31*0.5) -> 0 | P31: =日報!AX89+日報!AX143+日報!AX197+日報!AX251+日報!AX305+日報!AX359+日報!AX413+日報!AX467+日報!AX521+日報!AX575+日報!AX629+日報!AX683+日報!AX737+日報!AX791+日報!AX845+日報!AX899+日報!AX953+日報!AX1007+日報!AX1061+日報!AX1115+日報!AX1169+日報!AX1223+日報!AX1277+日報!AX1331+日報!AX1385+日報!AX1439+日報!AX1493+日報!AX1547+日報!AX1601+日報!AX1655+日報!AX1709 -> 0
B33: おーろら | L33: =L4+L9+L14+L19+L24+L29 -> 3563 | M33: =M4+M9+M14+M19+M24+M29 -> 51 | N33: =N4+N9+N14+N19+N24+N29 -> 3614 | O33: =O4+O9+O14+O19+O24+O29 -> 3588.5 | P33: =P4+P9+P14+P19+P24+P29 -> 64 | Q33: おーろら
B35: おーろら3 | L35: =L6+L11+L16+L21+L26+L31 -> 709 | M35: =M6+M11+M16+M21+M26+M31 -> 86 | N35: =N6+N11+N16+N21+N26+N31 -> 795 | O35: =O6+O11+O16+O21+O26+O31 -> 752 | P35: =P6+P11+P16+P21+P26+P31 -> 33 | Q35: おーろら2
B37: 月累計 | F37: =F4+F6+F9+F11+F14+F16+F19+F21+F24+F26 -> 1766 | G37: =G4+G6+G9+G11+G14+G16+G19+G21+G24+G26 -> 2448 | H37: =H4+H6+H9+H11+H14+H16+H19+H21+H24+H26 -> 58 | I37: =I4+I6+I9+I11+I14+I16+I19+I21+I24+I26 -> 71 | J37: =J4+J6+J9+J11+J14+J16+J19+J21+J24+J26 -> 66 | L37: =L4+L6+L9+L11+L14+L16+L19+L21+L24+L26+L29+L31 -> 4272 | M37: =M4+M6+M9+M11+M14+M16+M19+M21+M24+M26+M29+M31 -> 137 | N37: =N4+N6+N9+N11+N14+N16+N19+N21+N24+N26+N29+N31 -> 4409 | O37: =O4+O6+O9+O11+O14+O16+O19+O21+O24+O26+O29+O31 -> 4340.5 | P37: =P4+P6+P9+P11+P14+P16+P19+P21+P24+P26+P29+P31 -> 97 | Q37: 月累計

Sheet 平均乗船人数
A1: 平均乗船人数 | I1: 1 | J1: 4 | K1: カ
B2: =IFERROR(B5/COUNT(B7:B37),"0") -> 66.387097 | C2: =IFERROR(C5/COUNT(C7:C37),"0") -> 30.774194 | D2: =IFERROR(D5/COUNT(D7:D37),"0") -> 2.6451613 | E2: =IFERROR(E5/COUNT(E7:E37),"0") -> 40.129032 | F2: =IFERROR(F5/COUNT(F7:F37),"0") -> 0 | G2: =IFERROR(G5/COUNT(G7:G37),"0") -> 2.2903226 | H2: =IFERROR(H5/COUNT(H7:H37),"0") -> 0 | I2: 2 | J2: 5 | K2: C
A3: =日報!S57 -> 46143 | B3: カムイワッカの滝・水晶・岩尾別 | G3: 知床岬・カシュニ | I3: 3 | J3: 岬 | K3: O | O3: 日報! | P3: :
B4: 1便 | C4: 2便 | D4: 3便 | E4: 4便 | F4: 5便 | G4: 岬1便 | H4: 岬2便 | I4: カムイワッカ | K4: 知床岬・カシュニ | O4: カムイワッカ | R4: 岬
A5: 合計人数 | B5: =SUM(B7:B37) -> 2058 | C5: =SUM(C7:C37) -> 954 | D5: =SUM(D7:D37) -> 82 | E5: =SUM(E7:E37) -> 1244 | F5: =SUM(F7:F37) -> 0 | G5: =SUM(G7:G37) -> 71 | H5: =SUM(H7:H37) -> 0 | V5: =SUM(B5:H5) -> 4409
A6: 日平均 | B6: =IFERROR(B5/COUNTIF(B7:B37,">1"),"0") -> 82.32 | C6: =IFERROR(C5/COUNTIF(C7:C37,">1"),"0") -> 43.363636 | D6: =IFERROR(D5/COUNTIF(D7:D37,">1"),"0") -> 16.4 | E6: =IFERROR(E5/COUNTIF(E7:E37,">1"),"0") -> 69.111111 | F6: =IFERROR(F5/COUNTIF(F7:F37,">1"),"0") -> 0 | G6: =IFERROR(G5/COUNTIF(G7:G37,">1"),"0") -> 71 | H6: =IFERROR(H5/COUNTIF(H7:H37,">1"),"0") -> 0 | V6: =SUM(B6:H6) -> 282.19475
A7: 1日 | B7: =SUMIF(INDIRECT($I7),$I$1,INDIRECT($J7)) -> 64 | C7: =SUMIF(INDIRECT($I7),$I$2,INDIRECT($J7)) -> 0 | D7: =SUMIF(INDIRECT($I7),$I$3,INDIRECT($J7)) -> 0 | E7: =SUMIF(INDIRECT($I7),$J$1,INDIRECT($J7)) -> 0 | F7: =SUMIF(INDIRECT($I7),$J$2,INDIRECT($J7)) -> 0 | G7: =SUMIF(INDIRECT($K7),$J$3,INDIRECT($L7))+SUMIF(INDIRECT($K7),$K$1,INDIRECT($L7)) -> 71 | H7: =SUMIF(INDIRECT($M7),$J$3,INDIRECT($N7))+SUMIF(INDIRECT($M7),$K$1,INDIRECT($N7)) -> 0 | I7: =CONCATENATE($O$3,$K$2,$O7,$P$3,$K$2,$P7) -> 日報!C62:C75 | J7: =CONCATENATE($O$3,$K$3,$O7,$P$3,$K$3,$P7) -> 日報!O62:O75 | K7: =CONCATENATE($O$3,$K$2,$R7,$P$3,$K$2,$S7) -> 日報!C62:C64 | L7: =CONCATENATE($O$3,$K$3,$R7,$P$3,$K$3,$S7) -> 日報!O62:O64 | M7: =CONCATENATE($O$3,$K$2,$T7,$P$3,$K$2,$U7) -> 日報!C65:C75 | N7: =CONCATENATE($O$3,$K$3,$T7,$P$3,$K$3,$U7) -> 日報!O65:O75 | O7: 62 | P7: 75 | R7: 62 | S7: 64 | T7: 65 | U7: 75 | V7: =SUM(B7:H7) -> 135
A8: 2日 | B8: =SUMIF(INDIRECT($I8),$I$1,INDIRECT($J8)) -> 0 | C8: =SUMIF(INDIRECT($I8),$I$2,INDIRECT($J8)) -> 0 | D8: =SUMIF(INDIRECT($I8),$I$3,INDIRECT($J8)) -> 0 | E8: =SUMIF(INDIRECT($I8),$J$1,INDIRECT($J8)) -> 0 | F8: =SUMIF(INDIRECT($I8),$J$2,INDIRECT($J8)) -> 0 | G8: =SUMIF(INDIRECT($K8),$J$3,INDIRECT($L8))+SUMIF(INDIRECT($K8),$K$1,INDIRECT($L8)) -> 0 | H8: =SUMIF(INDIRECT($M8),$J$3,INDIRECT($N8))+SUMIF(INDIRECT($M8),$K$1,INDIRECT($N8)) -> 0 | I8: =CONCATENATE($O$3,$K$2,$O8,$P$3,$K$2,$P8) -> 日報!C116:C129 | J8: =CONCATENATE($O$3,$K$3,$O8,$P$3,$K$3,$P8) -> 日報!O116:O129 | K8: =CONCATENATE($O$3,$K$2,$R8,$P$3,$K$2,$S8) -> 日報!C116:C118 | L8: =CONCATENATE($O$3,$K$3,$R8,$P$3,$K$3,$S8) -> 日報!O116:O118 | M8: =CONCATENATE($O$3,$K$2,$T8,$P$3,$K$2,$U8) -> 日報!C119:C129 | N8: =CONCATENATE($O$3,$K$3,$T8,$P$3,$K$3,$U8) -> 日報!O119:O129 | O8: =SUM(O7+Q8) -> 116 | P8: =SUM(P7+Q8) -> 129 | Q8: 54 | R8: =SUM(R7+$Q8) -> 116 | S8: =SUM(S7+$Q8) -> 118 | T8: =SUM(T7+$Q8) -> 119 | U8: =SUM(U7+$Q8) -> 129 | V8: =SUM(B8:H8) -> 0
A9: 3日 | B9: =SUMIF(INDIRECT($I9),$I$1,INDIRECT($J9)) -> 0 | C9: =SUMIF(INDIRECT($I9),$I$2,INDIRECT($J9)) -> 0 | D9: =SUMIF(INDIRECT($I9),$I$3,INDIRECT($J9)) -> 0 | E9: =SUMIF(INDIRECT($I9),$J$1,INDIRECT($J9)) -> 0 | F9: =SUMIF(INDIRECT($I9),$J$2,INDIRECT($J9)) -> 0 | G9: =SUMIF(INDIRECT($K9),$J$3,INDIRECT($L9))+SUMIF(INDIRECT($K9),$K$1,INDIRECT($L9)) -> 0 | H9: =SUMIF(INDIRECT($M9),$J$3,INDIRECT($N9))+SUMIF(INDIRECT($M9),$K$1,INDIRECT($N9)) -> 0 | I9: =CONCATENATE($O$3,$K$2,$O9,$P$3,$K$2,$P9) -> 日報!C170:C183 | J9: =CONCATENATE($O$3,$K$3,$O9,$P$3,$K$3,$P9) -> 日報!O170:O183 | K9: =CONCATENATE($O$3,$K$2,$R9,$P$3,$K$2,$S9) -> 日報!C170:C172 | L9: =CONCATENATE($O$3,$K$3,$R9,$P$3,$K$3,$S9) -> 日報!O170:O172 | M9: =CONCATENATE($O$3,$K$2,$T9,$P$3,$K$2,$U9) -> 日報!C173:C183 | N9: =CONCATENATE($O$3,$K$3,$T9,$P$3,$K$3,$U9) -> 日報!O173:O183 | O9: =SUM(O8+Q9) -> 170 | P9: =SUM(P8+Q9) -> 183 | Q9: 54 | R9: =SUM(R8+$Q9) -> 170 | S9: =SUM(S8+$Q9) -> 172 | T9: =SUM(T8+$Q9) -> 173 | U9: =SUM(U8+$Q9) -> 183 | V9: =SUM(B9:H9) -> 0
A10: 4日 | B10: =SUMIF(INDIRECT($I10),$I$1,INDIRECT($J10)) -> 0 | C10: =SUMIF(INDIRECT($I10),$I$2,INDIRECT($J10)) -> 0 | D10: =SUMIF(INDIRECT($I10),$I$3,INDIRECT($J10)) -> 0 | E10: =SUMIF(INDIRECT($I10),$J$1,INDIRECT($J10)) -> 0 | F10: =SUMIF(INDIRECT($I10),$J$2,INDIRECT($J10)) -> 0 | G10: =SUMIF(INDIRECT($K10),$J$3,INDIRECT($L10))+SUMIF(INDIRECT($K10),$K$1,INDIRECT($L10)) -> 0 | H10: =SUMIF(INDIRECT($M10),$J$3,INDIRECT($N10))+SUMIF(INDIRECT($M10),$K$1,INDIRECT($N10)) -> 0 | I10: =CONCATENATE($O$3,$K$2,$O10,$P$3,$K$2,$P10) -> 日報!C224:C237 | J10: =CONCATENATE($O$3,$K$3,$O10,$P$3,$K$3,$P10) -> 日報!O224:O237 | K10: =CONCATENATE($O$3,$K$2,$R10,$P$3,$K$2,$S10) -> 日報!C224:C226 | L10: =CONCATENATE($O$3,$K$3,$R10,$P$3,$K$3,$S10) -> 日報!O224:O226 | M10: =CONCATENATE($O$3,$K$2,$T10,$P$3,$K$2,$U10) -> 日報!C227:C237 | N10: =CONCATENATE($O$3,$K$3,$T10,$P$3,$K$3,$U10) -> 日報!O227:O237 | O10: =SUM(O9+Q10) -> 224 | P10: =SUM(P9+Q10) -> 237 | Q10: 54 | R10: =SUM(R9+$Q10) -> 224 | S10: =SUM(S9+$Q10) -> 226 | T10: =SUM(T9+$Q10) -> 227 | U10: =SUM(U9+$Q10) -> 237 | V10: =SUM(B10:H10) -> 0
A11: 5日 | B11: =SUMIF(INDIRECT($I11),$I$1,INDIRECT($J11)) -> 0 | C11: =SUMIF(INDIRECT($I11),$I$2,INDIRECT($J11)) -> 0 | D11: =SUMIF(INDIRECT($I11),$I$3,INDIRECT($J11)) -> 0 | E11: =SUMIF(INDIRECT($I11),$J$1,INDIRECT($J11)) -> 0 | F11: =SUMIF(INDIRECT($I11),$J$2,INDIRECT($J11)) -> 0 | G11: =SUMIF(INDIRECT($K11),$J$3,INDIRECT($L11))+SUMIF(INDIRECT($K11),$K$1,INDIRECT($L11)) -> 0 | H11: =SUMIF(INDIRECT($M11),$J$3,INDIRECT($N11))+SUMIF(INDIRECT($M11),$K$1,INDIRECT($N11)) -> 0 | I11: =CONCATENATE($O$3,$K$2,$O11,$P$3,$K$2,$P11) -> 日報!C278:C291 | J11: =CONCATENATE($O$3,$K$3,$O11,$P$3,$K$3,$P11) -> 日報!O278:O291 | K11: =CONCATENATE($O$3,$K$2,$R11,$P$3,$K$2,$S11) -> 日報!C278:C280 | L11: =CONCATENATE($O$3,$K$3,$R11,$P$3,$K$3,$S11) -> 日報!O278:O280 | M11: =CONCATENATE($O$3,$K$2,$T11,$P$3,$K$2,$U11) -> 日報!C281:C291 | N11: =CONCATENATE($O$3,$K$3,$T11,$P$3,$K$3,$U11) -> 日報!O281:O291 | O11: =SUM(O10+Q11) -> 278 | P11: =SUM(P10+Q11) -> 291 | Q11: 54 | R11: =SUM(R10+$Q11) -> 278 | S11: =SUM(S10+$Q11) -> 280 | T11: =SUM(T10+$Q11) -> 281 | U11: =SUM(U10+$Q11) -> 291 | V11: =SUM(B11:H11) -> 0
A12: 6日 | B12: =SUMIF(INDIRECT($I12),$I$1,INDIRECT($J12)) -> 33 | C12: =SUMIF(INDIRECT($I12),$I$2,INDIRECT($J12)) -> 0 | D12: =SUMIF(INDIRECT($I12),$I$3,INDIRECT($J12)) -> 0 | E12: =SUMIF(INDIRECT($I12),$J$1,INDIRECT($J12)) -> 0 | F12: =SUMIF(INDIRECT($I12),$J$2,INDIRECT($J12)) -> 0 | G12: =SUMIF(INDIRECT($K12),$J$3,INDIRECT($L12))+SUMIF(INDIRECT($K12),$K$1,INDIRECT($L12)) -> 0 | H12: =SUMIF(INDIRECT($M12),$J$3,INDIRECT($N12))+SUMIF(INDIRECT($M12),$K$1,INDIRECT($N12)) -> 0 | I12: =CONCATENATE($O$3,$K$2,$O12,$P$3,$K$2,$P12) -> 日報!C332:C345 | J12: =CONCATENATE($O$3,$K$3,$O12,$P$3,$K$3,$P12) -> 日報!O332:O345 | K12: =CONCATENATE($O$3,$K$2,$R12,$P$3,$K$2,$S12) -> 日報!C332:C334 | L12: =CONCATENATE($O$3,$K$3,$R12,$P$3,$K$3,$S12) -> 日報!O332:O334 | M12: =CONCATENATE($O$3,$K$2,$T12,$P$3,$K$2,$U12) -> 日報!C335:C345 | N12: =CONCATENATE($O$3,$K$3,$T12,$P$3,$K$3,$U12) -> 日報!O335:O345 | O12: =SUM(O11+Q12) -> 332 | P12: =SUM(P11+Q12) -> 345 | Q12: 54 | R12: =SUM(R11+$Q12) -> 332 | S12: =SUM(S11+$Q12) -> 334 | T12: =SUM(T11+$Q12) -> 335 | U12: =SUM(U11+$Q12) -> 345 | V12: =SUM(B12:H12) -> 33
A13: 7日 | B13: =SUMIF(INDIRECT($I13),$I$1,INDIRECT($J13)) -> 41 | C13: =SUMIF(INDIRECT($I13),$I$2,INDIRECT($J13)) -> 29 | D13: =SUMIF(INDIRECT($I13),$I$3,INDIRECT($J13)) -> 0 | E13: =SUMIF(INDIRECT($I13),$J$1,INDIRECT($J13)) -> 0 | F13: =SUMIF(INDIRECT($I13),$J$2,INDIRECT($J13)) -> 0 | G13: =SUMIF(INDIRECT($K13),$J$3,INDIRECT($L13))+SUMIF(INDIRECT($K13),$K$1,INDIRECT($L13)) -> 0 | H13: =SUMIF(INDIRECT($M13),$J$3,INDIRECT($N13))+SUMIF(INDIRECT($M13),$K$1,INDIRECT($N13)) -> 0 | I13: =CONCATENATE($O$3,$K$2,$O13,$P$3,$K$2,$P13) -> 日報!C386:C399 | J13: =CONCATENATE($O$3,$K$3,$O13,$P$3,$K$3,$P13) -> 日報!O386:O399 | K13: =CONCATENATE($O$3,$K$2,$R13,$P$3,$K$2,$S13) -> 日報!C386:C388 | L13: =CONCATENATE($O$3,$K$3,$R13,$P$3,$K$3,$S13) -> 日報!O386:O388 | M13: =CONCATENATE($O$3,$K$2,$T13,$P$3,$K$2,$U13) -> 日報!C389:C399 | N13: =CONCATENATE($O$3,$K$3,$T13,$P$3,$K$3,$U13) -> 日報!O389:O399 | O13: =SUM(O12+Q13) -> 386 | P13: =SUM(P12+Q13) -> 399 | Q13: 54 | R13: =SUM(R12+$Q13) -> 386 | S13: =SUM(S12+$Q13) -> 388 | T13: =SUM(T12+$Q13) -> 389 | U13: =SUM(U12+$Q13) -> 399 | V13: =SUM(B13:H13) -> 70
A14: 8日 | B14: =SUMIF(INDIRECT($I14),$I$1,INDIRECT($J14)) -> 30 | C14: =SUMIF(INDIRECT($I14),$I$2,INDIRECT($J14)) -> 0 | D14: =SUMIF(INDIRECT($I14),$I$3,INDIRECT($J14)) -> 0 | E14: =SUMIF(INDIRECT($I14),$J$1,INDIRECT($J14)) -> 0 | F14: =SUMIF(INDIRECT($I14),$J$2,INDIRECT($J14)) -> 0 | G14: =SUMIF(INDIRECT($K14),$J$3,INDIRECT($L14))+SUMIF(INDIRECT($K14),$K$1,INDIRECT($L14)) -> 0 | H14: =SUMIF(INDIRECT($M14),$J$3,INDIRECT($N14))+SUMIF(INDIRECT($M14),$K$1,INDIRECT($N14)) -> 0 | I14: =CONCATENATE($O$3,$K$2,$O14,$P$3,$K$2,$P14) -> 日報!C440:C453 | J14: =CONCATENATE($O$3,$K$3,$O14,$P$3,$K$3,$P14) -> 日報!O440:O453 | K14: =CONCATENATE($O$3,$K$2,$R14,$P$3,$K$2,$S14) -> 日報!C440:C442 | L14: =CONCATENATE($O$3,$K$3,$R14,$P$3,$K$3,$S14) -> 日報!O440:O442 | M14: =CONCATENATE($O$3,$K$2,$T14,$P$3,$K$2,$U14) -> 日報!C443:C453 | N14: =CONCATENATE($O$3,$K$3,$T14,$P$3,$K$3,$U14) -> 日報!O443:O453 | O14: =SUM(O13+Q14) -> 440 | P14: =SUM(P13+Q14) -> 453 | Q14: 54 | R14: =SUM(R13+$Q14) -> 440 | S14: =SUM(S13+$Q14) -> 442 | T14: =SUM(T13+$Q14) -> 443 | U14: =SUM(U13+$Q14) -> 453 | V14: =SUM(B14:H14) -> 30
A15: 9日 | B15: =SUMIF(INDIRECT($I15),$I$1,INDIRECT($J15)) -> 21 | C15: =SUMIF(INDIRECT($I15),$I$2,INDIRECT($J15)) -> 8 | D15: =SUMIF(INDIRECT($I15),$I$3,INDIRECT($J15)) -> 0 | E15: =SUMIF(INDIRECT($I15),$J$1,INDIRECT($J15)) -> 0 | F15: =SUMIF(INDIRECT($I15),$J$2,INDIRECT($J15)) -> 0 | G15: =SUMIF(INDIRECT($K15),$J$3,INDIRECT($L15))+SUMIF(INDIRECT($K15),$K$1,INDIRECT($L15)) -> 0 | H15: =SUMIF(INDIRECT($M15),$J$3,INDIRECT($N15))+SUMIF(INDIRECT($M15),$K$1,INDIRECT($N15)) -> 0 | I15: =CONCATENATE($O$3,$K$2,$O15,$P$3,$K$2,$P15) -> 日報!C494:C507 | J15: =CONCATENATE($O$3,$K$3,$O15,$P$3,$K$3,$P15) -> 日報!O494:O507 | K15: =CONCATENATE($O$3,$K$2,$R15,$P$3,$K$2,$S15) -> 日報!C494:C496 | L15: =CONCATENATE($O$3,$K$3,$R15,$P$3,$K$3,$S15) -> 日報!O494:O496 | M15: =CONCATENATE($O$3,$K$2,$T15,$P$3,$K$2,$U15) -> 日報!C497:C507 | N15: =CONCATENATE($O$3,$K$3,$T15,$P$3,$K$3,$U15) -> 日報!O497:O507 | O15: =SUM(O14+Q15) -> 494 | P15: =SUM(P14+Q15) -> 507 | Q15: 54 | R15: =SUM(R14+$Q15) -> 494 | S15: =SUM(S14+$Q15) -> 496 | T15: =SUM(T14+$Q15) -> 497 | U15: =SUM(U14+$Q15) -> 507 | V15: =SUM(B15:H15) -> 29
A16: 10日 | B16: =SUMIF(INDIRECT($I16),$I$1,INDIRECT($J16)) -> 17 | C16: =SUMIF(INDIRECT($I16),$I$2,INDIRECT($J16)) -> 17 | D16: =SUMIF(INDIRECT($I16),$I$3,INDIRECT($J16)) -> 0 | E16: =SUMIF(INDIRECT($I16),$J$1,INDIRECT($J16)) -> 0 | F16: =SUMIF(INDIRECT($I16),$J$2,INDIRECT($J16)) -> 0 | G16: =SUMIF(INDIRECT($K16),$J$3,INDIRECT($L16))+SUMIF(INDIRECT($K16),$K$1,INDIRECT($L16)) -> 0 | H16: =SUMIF(INDIRECT($M16),$J$3,INDIRECT($N16))+SUMIF(INDIRECT($M16),$K$1,INDIRECT($N16)) -> 0 | I16: =CONCATENATE($O$3,$K$2,$O16,$P$3,$K$2,$P16) -> 日報!C548:C561 | J16: =CONCATENATE($O$3,$K$3,$O16,$P$3,$K$3,$P16) -> 日報!O548:O561 | K16: =CONCATENATE($O$3,$K$2,$R16,$P$3,$K$2,$S16) -> 日報!C548:C550 | L16: =CONCATENATE($O$3,$K$3,$R16,$P$3,$K$3,$S16) -> 日報!O548:O550 | M16: =CONCATENATE($O$3,$K$2,$T16,$P$3,$K$2,$U16) -> 日報!C551:C561 | N16: =CONCATENATE($O$3,$K$3,$T16,$P$3,$K$3,$U16) -> 日報!O551:O561 | O16: =SUM(O15+Q16) -> 548 | P16: =SUM(P15+Q16) -> 561 | Q16: 54 | R16: =SUM(R15+$Q16) -> 548 | S16: =SUM(S15+$Q16) -> 550 | T16: =SUM(T15+$Q16) -> 551 | U16: =SUM(U15+$Q16) -> 561 | V16: =SUM(B16:H16) -> 34
A17: 11日 | B17: =SUMIF(INDIRECT($I17),$I$1,INDIRECT($J17)) -> 0 | C17: =SUMIF(INDIRECT($I17),$I$2,INDIRECT($J17)) -> 34 | D17: =SUMIF(INDIRECT($I17),$I$3,INDIRECT($J17)) -> 0 | E17: =SUMIF(INDIRECT($I17),$J$1,INDIRECT($J17)) -> 0 | F17: =SUMIF(INDIRECT($I17),$J$2,INDIRECT($J17)) -> 0 | G17: =SUMIF(INDIRECT($K17),$J$3,INDIRECT($L17))+SUMIF(INDIRECT($K17),$K$1,INDIRECT($L17)) -> 0 | H17: =SUMIF(INDIRECT($M17),$J$3,INDIRECT($N17))+SUMIF(INDIRECT($M17),$K$1,INDIRECT($N17)) -> 0 | I17: =CONCATENATE($O$3,$K$2,$O17,$P$3,$K$2,$P17) -> 日報!C602:C615 | J17: =CONCATENATE($O$3,$K$3,$O17,$P$3,$K$3,$P17) -> 日報!O602:O615 | K17: =CONCATENATE($O$3,$K$2,$R17,$P$3,$K$2,$S17) -> 日報!C602:C604 | L17: =CONCATENATE($O$3,$K$3,$R17,$P$3,$K$3,$S17) -> 日報!O602:O604 | M17: =CONCATENATE($O$3,$K$2,$T17,$P$3,$K$2,$U17) -> 日報!C605:C615 | N17: =CONCATENATE($O$3,$K$3,$T17,$P$3,$K$3,$U17) -> 日報!O605:O615 | O17: =SUM(O16+Q17) -> 602 | P17: =SUM(P16+Q17) -> 615 | Q17: 54 | R17: =SUM(R16+$Q17) -> 602 | S17: =SUM(S16+$Q17) -> 604 | T17: =SUM(T16+$Q17) -> 605 | U17: =SUM(U16+$Q17) -> 615 | V17: =SUM(B17:H17) -> 34
A18: 12日 | B18: =SUMIF(INDIRECT($I18),$I$1,INDIRECT($J18)) -> 103 | C18: =SUMIF(INDIRECT($I18),$I$2,INDIRECT($J18)) -> 46 | D18: =SUMIF(INDIRECT($I18),$I$3,INDIRECT($J18)) -> 0 | E18: =SUMIF(INDIRECT($I18),$J$1,INDIRECT($J18)) -> 55 | F18: =SUMIF(INDIRECT($I18),$J$2,INDIRECT($J18)) -> 0 | G18: =SUMIF(INDIRECT($K18),$J$3,INDIRECT($L18))+SUMIF(INDIRECT($K18),$K$1,INDIRECT($L18)) -> 0 | H18: =SUMIF(INDIRECT($M18),$J$3,INDIRECT($N18))+SUMIF(INDIRECT($M18),$K$1,INDIRECT($N18)) -> 0 | I18: =CONCATENATE($O$3,$K$2,$O18,$P$3,$K$2,$P18) -> 日報!C656:C669 | J18: =CONCATENATE($O$3,$K$3,$O18,$P$3,$K$3,$P18) -> 日報!O656:O669 | K18: =CONCATENATE($O$3,$K$2,$R18,$P$3,$K$2,$S18) -> 日報!C656:C658 | L18: =CONCATENATE($O$3,$K$3,$R18,$P$3,$K$3,$S18) -> 日報!O656:O658 | M18: =CONCATENATE($O$3,$K$2,$T18,$P$3,$K$2,$U18) -> 日報!C659:C669 | N18: =CONCATENATE($O$3,$K$3,$T18,$P$3,$K$3,$U18) -> 日報!O659:O669 | O18: =SUM(O17+Q18) -> 656 | P18: =SUM(P17+Q18) -> 669 | Q18: 54 | R18: =SUM(R17+$Q18) -> 656 | S18: =SUM(S17+$Q18) -> 658 | T18: =SUM(T17+$Q18) -> 659 | U18: =SUM(U17+$Q18) -> 669 | V18: =SUM(B18:H18) -> 204
